BEGIN:VCALENDAR
VERSION:2.0
PRODID:-//ChamberMaster//Event Calendar 2.0//EN
METHOD:PUBLISH
X-PUBLISHED-TTL:P3D
REFRESH-INTERVAL:P3D
CALSCALE:GREGORIAN
BEGIN:VEVENT
DTSTART:20230216T050000Z
DTEND:20230216T063000Z
X-MICROSOFT-CDO-ALLDAYEVENT:FALSE
SUMMARY:AMCHAM Myanmar Luncheon Presentation with Jason Tower
DESCRIPTION:Please be advised that this function is a partner event with an external organizer. The registration link will send you away from the AMCHAM website to the website of the organizer.  Please be advised that the organizer may not have the same data protection\, event cancellation policies or Covid-19 safety protocol as AMCHAM Thailand.\n\n\n\nREGISTER HERE\n\n\n\nAMCHAM Myanmar invites AMCHAM Thailand members to join the AMCHAM Myanmar Luncheon Presentation with Jason Tower\, Burma Country Director\, United States Institute of Peace at the Foreign Correspondents Club of Thailand (FCCT).\n\n\n\nAbout the Speaker:\n\nAs shared in a recent article in The Economist\, Jason will discuss updates on the situation in Myanmar and will speak about his latest research on the Myanmar border with China. This presentation is being held under Chatham House Rules\, and we kindly request that information shared in this program be considered as off the record.\nTopics and themes covered in the presentation will include:\n\n\n	The military's recent attacks on key ethnic armed organizations\, the different responses of EAOs and resistance forces\, and rising levels of instability especially along the country's borders.\n	How rising levels of transnational crime are posing new threats to regional and global security\n	The responses of Myanmar's powerful neighboring states and potential for escalations in violent conflict.\n	The inclusion of the Burma Act into the NDAA\, and options for U.S. policy\n\nThis is a hybrid luncheon and presentation held at the Foreign Correspondents Club of Thailand (FCCT). Members in Bangkok will be able to join the program live at the FCCT with the option to enjoy a buffet lunch prepared by the FCCT.
X-ALT-DESC;FMTTYPE=text/html:Please be advised that this function is a partner event with an external organizer. The registration link will send you away from the AMCHAM website to the website of the organizer.&#8203\; Please be advised that the organizer may not have the same data protection\, event cancellation policies or Covid-19 safety protocol as AMCHAM Thailand.<br />\n<br />\n<a href="https://amchammyanmar.glueup.com/event/hybrid-luncheon-presentation-with-jason-tower-usip-at-the-fcct-70053/"><strong>REGISTER HERE</strong></a><br />\n<br />\nAMCHAM Myanmar invites AMCHAM Thailand members to join the AMCHAM Myanmar Luncheon Presentation with Jason Tower\, Burma Country Director\, United States Institute of Peace at the Foreign Correspondents Club of Thailand (FCCT).<br />\n<br />\n<strong>About the Speaker:</strong><br />\nAs shared in a recent article in&nbsp\;<em>The Economist</em>\, Jason will discuss updates on the situation in Myanmar and will speak about his latest research on the Myanmar border with China. This presentation is being held under Chatham House Rules\, and we kindly request that information shared in this program be considered as off the record.\n<p>Topics and themes covered in the presentation will include:</p>\n\n<ul>\n	<li>The military&#39\;s recent attacks on key ethnic armed organizations\, the different responses of EAOs and resistance forces\, and rising levels of instability especially along the country&#39\;s borders.</li>\n	<li>How rising levels of transnational crime are posing new threats to regional and global security</li>\n	<li>The responses of Myanmar&#39\;s powerful neighboring states and potential for escalations in violent conflict.</li>\n	<li>The inclusion of the Burma Act into the NDAA\, and options for U.S. policy</li>\n</ul>\nThis is a hybrid luncheon and presentation held at the Foreign Correspondents Club of Thailand (FCCT). Members in Bangkok will be able to join the program live at the FCCT with the option to enjoy a buffet lunch prepared by the FCCT.<br />\n&nbsp\;\n<p style="box-sizing: border-box\; margin: 0px auto\;">&nbsp\;</p>\n
LOCATION:In-person: Foreign Correspondents Club of Thailand (FCCT) Virtual: Zoom webinar
UID:e.3314.2499
SEQUENCE:3
DTSTAMP:20260420T071143Z
URL:http://www.connect.amchamthailand.com/events/details/amcham-myanmar-luncheon-presentation-with-jason-tower-2499
END:VEVENT

END:VCALENDAR
