BEGIN:VCALENDAR
VERSION:2.0
PRODID:-//ChamberMaster//Event Calendar 2.0//EN
METHOD:PUBLISH
X-PUBLISHED-TTL:P3D
REFRESH-INTERVAL:P3D
CALSCALE:GREGORIAN
BEGIN:VEVENT
DTSTART:20220628T103000Z
DTEND:20220628T120000Z
X-MICROSOFT-CDO-ALLDAYEVENT:FALSE
SUMMARY:AMCHAM Myanmar's Freedom Feast at the Smokin' Pug
DESCRIPTION:Please note that this event is hosted by AMCHAM Myanmar and event requirements may differ from AMCHAM. Clicking the link will bring you to their registration page and away from the AMCHAM website.\n\nClick here to register.\n\nKick off the American Independence holiday with an AMCHAM Myanmar dinner at the legendary Smokin' Pug BBQ!\n\n\n\nAll AMCHAM Myanmar members physically in Bangkok are welcome to join this laid-back gathering to share updates\, network\, and talk all things Myanmar. Share drinks and food with old friends and new.\n\n\n\nThe Smokin' Pug will put on their very best for us with an all-you-can-eat-and-drink family-style casual dinner with American favorites including ribs\, brisket\, wings\, sliders\, sausages\, coleslaw\, cornbread and all the yummy fixins. Vegetarian options available - just let us know. Wine\, beer\, and non-alcoholic options are all available.\n\n\n\nWe are delighted cooperate with our friends at AMCHAM Thailand to offer a select number of seats for purchase by AMCHAM Thailand members.\n\n\n\nMake sure to come hungry to this event and book your seat early. In-person events will be on a brief hiatus as the summer and school breaks are upon us. So please mark your diaries and get ready for a fun evening ahead!\n\n\n\n\n\nEvent Details:\n\n\n	Booking deadline: Friday\, June 24\, 12 pm\n	Capacity is limited and tickets are on a first-come-first-serve basis.\n	Prior booking is required and no walk-ins accepted\n	Prepayment via credit card (USD) is required for ticket confirmation.\n	Tickets are non-refundable and non-transferable. *This is a cashless event - tickets only available by USD credit card\n	Any cancellations must be made at least 3 working days in advance.
X-ALT-DESC;FMTTYPE=text/html:<p>Please note that this event is hosted by&nbsp\;AMCHAM Myanmar&nbsp\;and event requirements may&nbsp\;differ from AMCHAM. Clicking the link will bring you to their registration page and away from the AMCHAM website.</p>\n\n<p><a href="https://amchammyanmar.glueup.com/event/amcham-myanmars-freedom-feast-at-the-smokin-pug-58153/"><strong><span style="font-size:18px\;">Click here to register.</span></strong></a></p>\n\n<p>Kick off the American Independence holiday with an AMCHAM Myanmar dinner at the legendary Smokin&#39\; Pug BBQ!<br />\n<br />\nAll AMCHAM Myanmar members physically in Bangkok are welcome to join this laid-back gathering to share updates\, network\, and talk all things Myanmar. Share drinks and food with old friends and new.<br />\n<br />\nThe Smokin&#39\; Pug will put on their very best for us with an all-you-can-eat-and-drink family-style casual dinner with American favorites including ribs\, brisket\, wings\, sliders\, sausages\, coleslaw\, cornbread and all the yummy fixins. Vegetarian options available - just let us know. Wine\, beer\, and non-alcoholic options are all available.<br />\n<br />\nWe are delighted cooperate with our friends at AMCHAM Thailand to offer a select number of seats for purchase by AMCHAM Thailand members.<br />\n<br />\nMake sure to come hungry to this event and book your seat early. In-person events will be on a brief hiatus as the summer and school breaks are upon us. So please mark your diaries and get ready for a fun evening ahead!<br />\n<br />\n<br />\nEvent Details:</p>\n\n<ul>\n	<li>Booking deadline: Friday\, June 24\, 12 pm</li>\n	<li>Capacity is limited and tickets are on a first-come-first-serve basis.</li>\n	<li>Prior booking is required and no walk-ins accepted</li>\n	<li>Prepayment via credit card (USD) is required for ticket confirmation.</li>\n	<li>Tickets are non-refundable and non-transferable. *This is a cashless event - tickets only available by USD credit card</li>\n	<li>Any cancellations must be made at least 3 working days in advance.</li>\n</ul>\n
LOCATION:Venue: Smokin' Pug BBQ
UID:e.3314.2233
SEQUENCE:3
DTSTAMP:20260420T233617Z
URL:http://www.connect.amchamthailand.com/events/details/amcham-myanmar-s-freedom-feast-at-the-smokin-pug-2233
END:VEVENT

END:VCALENDAR
