BEGIN:VCALENDAR
VERSION:2.0
PRODID:-//ChamberMaster//Event Calendar 2.0//EN
METHOD:PUBLISH
X-PUBLISHED-TTL:P3D
REFRESH-INTERVAL:P3D
CALSCALE:GREGORIAN
BEGIN:VEVENT
DTSTART:20220830T103000Z
DTEND:20220830T120000Z
X-MICROSOFT-CDO-ALLDAYEVENT:FALSE
SUMMARY:AMCHAM Myanmar Social Networking
DESCRIPTION:Please note that this event is hosted by AMCHAM Myanmar and event requirements may differ from AMCHAM. Clicking the link will bring you to their registration page and away from the AMCHAM website.\n\nClick here to register\n\n\n\nBack by popular demand! Our AMCHAM Myanmar in Bangkok gatherings are back again for all to enjoy. Join this laid-back gathering presented by ATALIAN Global Services Myanmar to share updates\, network\, and talk all things Myanmar at the lovely Firefly Bar at the Kempinski Sindhorn .\n\n \n\nAMCHAM Myanmar is delighted once again to offer this social networking opportunity to our friends at AMCHAM Thailand.
X-ALT-DESC;FMTTYPE=text/html:<p>Please note that this event is hosted by&nbsp\;AMCHAM Myanmar&nbsp\;and event requirements may&nbsp\;differ from AMCHAM. Clicking the link will bring you to their registration page and away from the AMCHAM website.</p>\n\n<p><a href="https://amchammyanmar.glueup.com/event/amcham-myanmar-in-bangkok-an-evening-at-the-firefly-bar-58156/"><strong><span style="font-size:18px\;">Click here to register</span></strong></a><br />\n<br />\nBack by popular demand!&nbsp\;Our AMCHAM Myanmar in Bangkok gatherings are back again for all to enjoy. Join this laid-back gathering presented by ATALIAN Global Services Myanmar to share updates\, network\, and talk all things Myanmar at the lovely&nbsp\;<a href="https://www.kempinski.com/en/bangkok/sindhorn-hotel/restaurants-bars/firefly-bar/" style="color:rgb(5\, 99\, 193)\;" target="_blank">Firefly Bar at the Kempinski Sindhorn&#8203\;</a>.<br />\n&nbsp\;<br />\nAMCHAM Myanmar is delighted once again to offer this social networking opportunity to our friends at AMCHAM Thailand.<br />\n&nbsp\;</p>\n
LOCATION:Sindhorn Kempinski\, Firefly Bar
UID:e.3314.2263
SEQUENCE:3
DTSTAMP:20260420T180051Z
URL:http://www.connect.amchamthailand.com/events/details/amcham-myanmar-social-networking-2263
END:VEVENT

END:VCALENDAR
