BEGIN:VCALENDAR
VERSION:2.0
PRODID:-//ChamberMaster//Event Calendar 2.0//EN
METHOD:PUBLISH
X-PUBLISHED-TTL:P3D
REFRESH-INTERVAL:P3D
CALSCALE:GREGORIAN
BEGIN:VEVENT
DTSTART;VALUE=DATE:20210412
DTEND;VALUE=DATE:20210417
TRANSP:TRANSPARENT
X-MICROSOFT-CDO-ALLDAYEVENT:TRUE
SUMMARY:AMCHAM Office closed 12-16 April for Songkran Festival
DESCRIPTION:
X-ALT-DESC;FMTTYPE=text/html:
LOCATION:
UID:e.3314.1756
SEQUENCE:3
DTSTAMP:20260422T010822Z
URL:http://www.connect.amchamthailand.com/events/details/amcham-office-closed-12-16-april-for-songkran-festival-1756
END:VEVENT

END:VCALENDAR
