BEGIN:VCALENDAR
VERSION:2.0
PRODID:-//ChamberMaster//Event Calendar 2.0//EN
METHOD:PUBLISH
X-PUBLISHED-TTL:P3D
REFRESH-INTERVAL:P3D
CALSCALE:GREGORIAN
BEGIN:VEVENT
DTSTART:20221006T030000Z
DTEND:20221006T043000Z
X-MICROSOFT-CDO-ALLDAYEVENT:FALSE
SUMMARY:AMCHAM Open House & Meet the Board Candidates
DESCRIPTION:AMCHAM is delighted to welcome you to our new home at True Digital Park.\n\n\n\nOur candidates for the 2023-4 AMCHAM Board Elections will be on hand to greet you\, in addition to our Board Governors\, Committee Chairs and AMCHAM team. After our candidates introduce themselves\, we will have open networking with coffee and refreshments available\, as well as small group tours of the new AMCHAM office.\n\n\n\nWe look forward to seeing you there!\n\n\n\nThank you to our sponsors Chevron and Netflix for their generous support of this event.
X-ALT-DESC;FMTTYPE=text/html:AMCHAM is delighted to welcome you to our new home at True Digital Park.<br font-size:="" helvetica="" open="" />\n<br font-size:="" helvetica="" open="" />\nOur candidates for the 2023-4 AMCHAM Board Elections will be on hand to greet you\, in addition to our Board Governors\, Committee Chairs and AMCHAM team. After our candidates introduce themselves\, we will&nbsp\;have open networking with coffee and refreshments available\, as well as small group tours of the new AMCHAM office.<br font-size:="" helvetica="" open="" />\n<br font-size:="" helvetica="" open="" />\nWe look forward to seeing you there!<br font-size:="" helvetica="" open="" />\n<br font-size:="" helvetica="" open="" />\nThank you to our sponsors Chevron and Netflix for their generous support of this event.
LOCATION:True Digital Park\, Griffin Building 7th Floor\, Townhall L BTS: Punnawithi (direct exit to True Digital Park) For directions to the Griffin Building\, click here.
UID:e.3314.2313
SEQUENCE:3
DTSTAMP:20260420T142144Z
URL:http://www.connect.amchamthailand.com/events/details/amcham-open-house-meet-the-board-candidates-2313
END:VEVENT

END:VCALENDAR
