BEGIN:VCALENDAR
VERSION:2.0
PRODID:-//ChamberMaster//Event Calendar 2.0//EN
METHOD:PUBLISH
X-PUBLISHED-TTL:P3D
REFRESH-INTERVAL:P3D
CALSCALE:GREGORIAN
BEGIN:VEVENT
DTSTART:20191121T000000Z
DTEND:20191121T040000Z
X-MICROSOFT-CDO-ALLDAYEVENT:FALSE
SUMMARY:AMCHAM Partner Event: Suvitech - Improving Service Delivery\, Controls and Productivity with IoT Solutions
DESCRIPTION:Internet of Things (IoT) technologies open up unprecedented opportunities to transform your business. Enabling any "thing" - from machines to animals to environmental sensors - to share its data and to be connected\, monitored\, and controlled over the internet brings with it new growth and optimization opportunities from industrial manufacturing through to transportation\, retail\, and government services. Some of the many business applications of IoT include precision agriculture\, logistics route optimization\, perishable freight and environment quality monitoring\, smart healthcare\, smart logistics and supply chain\, predictive maintenance in manufacturing\, and smart city services. IoT also brings with it new opportunities for data monetization\, managed client subscription services\, productivity optimization and analytical decision support for managing your own operations.\n\nLike all digital technologies\, IoT also comes with its own set of considerations - solutions must be developed and deployed with security and data privacy designed into the core to resist cyber threats and privacy breaches.\n\nPlease join our session to learn more about how to incorporate IoT into your business\, gaining greater visibility and control over your assets and operations\, and unleashing embedded data to optimize service delivery and productivity for you and your customers.\nAgenda\n\n07.00 am:        Registration\n\n07.30 am:        Network and Buffet Breakfast\n\n08.15 am:        Opening Introductory Video and Welcome\n\n                          Mr. Dominic P. Arena\, Chief Executive Officer\, Suvitech Co.\, Ltd.\n\n08.30 am:        Improving Service Delivery\, Controls and Productivity with IoT Solutions\n\n                          Mr. Niti Mekmok\, Managing Director and Founder\, Synergy Technology\n\n09.15 am:        Improving Service Delivery\, Controls and Productivity with IoT Solutions\n\n                          Mr. Vasupon Thankakan\, Cloud and Enterprise Business Group Lead\, Microsoft (Thailand) \n\n10.00 am:        Q&A for Executives\n\n10.30 am:        Wrap up and Networking\n\n11.00 am:        End
X-ALT-DESC;FMTTYPE=text/html:<p>Internet of Things (IoT) technologies open up unprecedented opportunities to transform your business. Enabling&nbsp\;any &ldquo\;thing&rdquo\; - from machines to animals to environmental sensors - to share its data and to be connected\, monitored\, and controlled over the internet brings with it new growth and optimization opportunities from industrial manufacturing through to transportation\, retail\, and government services. Some of the many business applications of IoT include precision agriculture\, logistics route optimization\, perishable freight and environment quality monitoring\, smart healthcare\, smart logistics and supply chain\, predictive maintenance in manufacturing\, and smart city services. IoT also brings with it new opportunities for data monetization\, managed client subscription services\, productivity optimization and analytical decision support for managing your own operations.</p>\n\n<p>Like all digital technologies\, IoT also comes with its own set of considerations - solutions must be developed and deployed with security and data privacy designed into the core to resist cyber threats and privacy breaches.</p>\n\n<p>Please join our session to learn more about how to incorporate IoT into your business\, gaining greater visibility and control over your assets and operations\, and unleashing embedded data to optimize service delivery and productivity for you and your customers.</p>\n<strong>Agenda</strong><br />\n07.00 am:&nbsp\;&nbsp\;&nbsp\;&nbsp\;&nbsp\;&nbsp\;&nbsp\;&nbsp\;Registration<br />\n07.30&nbsp\;am:&nbsp\;&nbsp\;&nbsp\;&nbsp\;&nbsp\;&nbsp\;&nbsp\;&nbsp\;Network and Buffet Breakfast<br />\n08.15&nbsp\;am:&nbsp\;&nbsp\;&nbsp\;&nbsp\;&nbsp\;&nbsp\;&nbsp\;&nbsp\;Opening Introductory Video and Welcome<br />\n&nbsp\;&nbsp\;&nbsp\;&nbsp\;&nbsp\;&nbsp\;&nbsp\;&nbsp\;&nbsp\;&nbsp\;&nbsp\;&nbsp\;&nbsp\;&nbsp\;&nbsp\;&nbsp\;&nbsp\;&nbsp\;&nbsp\;&nbsp\;&nbsp\;&nbsp\;&nbsp\;&nbsp\;&nbsp\;&nbsp\;<a href="http://chambermaster.blob.core.windows.net/private-userfiles/MicResources/customers/3314/user/60086/Dominic-Suvitech.pdf">Mr. Dominic P. Arena</a>\, Chief Executive Officer\, Suvitech Co.\, Ltd.<br />\n08.30 am:&nbsp\;&nbsp\;&nbsp\;&nbsp\;&nbsp\;&nbsp\;&nbsp\;&nbsp\;Improving Service Delivery\, Controls and Productivity with IoT Solutions<br />\n&nbsp\;&nbsp\;&nbsp\;&nbsp\;&nbsp\;&nbsp\;&nbsp\;&nbsp\;&nbsp\;&nbsp\;&nbsp\;&nbsp\;&nbsp\;&nbsp\;&nbsp\;&nbsp\;&nbsp\;&nbsp\;&nbsp\;&nbsp\;&nbsp\;&nbsp\;&nbsp\;&nbsp\; &nbsp\;<a href="https://chambermaster.blob.core.windows.net/private-userfiles/MicResources/customers/3314/user/60086/Mr.Niti_biodata.pdf">Mr. Niti Mekmok</a>\, Managing Director and Founder\, Synergy Technology<br />\n09.15 am:&nbsp\;&nbsp\;&nbsp\;&nbsp\;&nbsp\;&nbsp\;&nbsp\;&nbsp\;Improving Service Delivery\, Controls and Productivity with IoT Solutions<br />\n&nbsp\;&nbsp\;&nbsp\;&nbsp\;&nbsp\;&nbsp\;&nbsp\;&nbsp\;&nbsp\;&nbsp\;&nbsp\;&nbsp\;&nbsp\;&nbsp\;&nbsp\;&nbsp\;&nbsp\;&nbsp\;&nbsp\;&nbsp\;&nbsp\;&nbsp\;&nbsp\;&nbsp\; &nbsp\;<a href="https://www.linkedin.com/in/vasupon-thankakan-29798114b/?originalSubdomain=th">Mr. Vasupon Thankakan</a>\, Cloud and Enterprise Business Group Lead\,&nbsp\;Microsoft (Thailand)&nbsp\;<br />\n10.00 am:&nbsp\;&nbsp\;&nbsp\;&nbsp\;&nbsp\;&nbsp\;&nbsp\;&nbsp\;Q&amp\;A for Executives<br />\n10.30 am:&nbsp\;&nbsp\;&nbsp\;&nbsp\;&nbsp\;&nbsp\;&nbsp\;&nbsp\;Wrap up and Networking<br />\n11.00 am:&nbsp\;&nbsp\;&nbsp\;&nbsp\;&nbsp\;&nbsp\;&nbsp\;&nbsp\;End
LOCATION:Sheraton Grande Sukhumvit\, Asoke Room BTS: Asoke MRT: Sukhumvit
UID:e.3314.412
SEQUENCE:3
DTSTAMP:20260423T073625Z
URL:http://www.connect.amchamthailand.com/events/details/amcham-partner-event-suvitech-improving-service-delivery-controls-and-productivity-with-iot-solutions-412
END:VEVENT

END:VCALENDAR
