BEGIN:VCALENDAR
VERSION:2.0
PRODID:-//ChamberMaster//Event Calendar 2.0//EN
METHOD:PUBLISH
X-PUBLISHED-TTL:P3D
REFRESH-INTERVAL:P3D
CALSCALE:GREGORIAN
BEGIN:VEVENT
DTSTART:20191106T010000Z
DTEND:20191106T100000Z
X-MICROSOFT-CDO-ALLDAYEVENT:FALSE
SUMMARY:AMCHAM Partnered Event: Cloud and Datacenter Convention 2019
DESCRIPTION:REGISTER NOW\n\n\n\nConnecting Your Digital Business  - The best destination event for the cloud & datacenter industry\n\n\n\nHighlights:\n\n1. Network with over 700 senior professionals from the region\n\n2. Stellar panel of speakers including Schneider Electric\, TCC Technology Group\, SITEM and more\n\n3. Plug-in Datacenter zone in the Expo to showcase how equipment today performs in the different environments of connectivity\, data center building and cyber security.\n\n4. World-class agenda that covers all you need to know on\n\n      (a) Thailand's role as a hub for the Indochina market on their connectivity\, cloud and data center landscape.\n\n      (b) Cloud & cyber security with government's cybers ecurity bill being passed.\n\n      (c) Data Centres - building for multi-tenants of varied requirements drive to Thailand 4.0.  \n\n\n\nAt Cloud and Datacenter Convention 2019\n\n\n	Up to 750 middle to senior level participants\n	Data center\, cloud and telco end-users and operators\, hyperscalers\, system integrators\, consultants\, facility managers\, and more\n	Content-driven convention to bring the industry forward in technology adoption and best practices\n	Cloud + Datacenters + Cybersecurity\n	Ideas-driven expo with display of new technologies and presentations at the technology benches\n	Focusing on networking with senior level participants and global visitors\n	Touch of service - our convention concierge team will invite customers and prospects on your behalf. Instant branding even before the event!\n	Market penetration - get in touch with industry influencers\n	Increase brand awareness - be correctly perceived by your prospects and clients\n\nEnding the year with a bang\, the first part of Thailand Cloud & Datacenter Convention will be held on 6 November.\n\n \n\nGathering over 300 international C-level and local mid to senior IT and data center professionals\, the convention will address current challenges and future thinking to drive the next growth of technology adoption\, skills and businesses.  \n\n \n\nThe convention will adjourn with networking drinks and a group of selected VIPs and international delegates will engage in private workshop round table discussions.\n\n \nSpeaker list\n\n\n	\n		\n			 Company\n			Job Title\n		\n		\n			Kasikorn Bank\n			VP- Head of IT Relationship Management\n		\n		\n			Bangkok Bank PCL\n			VP - Technology\n		\n		\n			Cdiscount\n			Head of IT Asia\n		\n		\n			ABN Amro Asia Plus Securities\n			Senior Vice President\n		\n		\n			Agoda.com\n			Global Network Infrastructure Manager\n		\n		\n			Ayudhya Capital Auto Lease\n			Head of IT Security & Service Desk\n		\n		\n			Kiatnakin Bank\n			VP IT Security\n		\n		\n			Thai City Electric Co.\, Ltd.\n			Group IT Director\n		\n		\n			The Royal Bank of Scotland\n			Country Technology Officer\n		\n		\n			Siam Commercial Bank pl\n			EVP\, IT Strategy\n		\n		\n			Bank of Thailand\n			Director\n		\n		\n			Airport of Thailand\n			Network Director\n		\n		\n			The Stock Exchange of Thailand\n			Deputy Head System Management Unit\n		\n		\n			Government Savings Bank\n			Senior Vice President of IT operations\n		\n		\n			Thai Airways International\n			Acting Director\, IT Infrastructure\, Operations and Services\n		\n		\n			PROEN INTERNET\n			VP IDC\n		\n		\n			Kerry Logistics Network\n			Regional IT Director\n		\n		\n			The Stock Exchange of Thailand\n			Deputy Head - Datacenter
X-ALT-DESC;FMTTYPE=text/html:<p><br />\n<a href="https://wmedia.typeform.com/to/OF3e2Y">REGISTER NOW</a><br />\n<br />\nConnecting Your Digital Business&nbsp\; - The best destination event for the cloud &amp\; datacenter industry</p>\n\n<h3><br />\n<u><em>Highlights:</em></u></h3>\n\n<p>1. Network with over 700 senior professionals from the region<br />\n2. Stellar panel of speakers including Schneider Electric\, TCC Technology Group\, SITEM and more<br />\n3. Plug-in Datacenter zone in the Expo to showcase how equipment today performs in the different environments of connectivity\, data center building and cyber security.<br />\n4. World-class agenda that covers all you need to know on<br />\n&nbsp\; &nbsp\;&nbsp\;&nbsp\; (a) Thailand&#39\;s role as&nbsp\;a hub for the Indochina market on their connectivity\, cloud and data center&nbsp\;landscape.<br />\n&nbsp\;&nbsp\;&nbsp\;&nbsp\; &nbsp\;(b) Cloud &amp\; cyber security with government&#39\;s cybers ecurity bill being passed.<br />\n&nbsp\; &nbsp\;&nbsp\;&nbsp\; (c) Data Centres - building for multi-tenants of varied requirements drive to Thailand 4.0.&nbsp\;&nbsp\;<br />\n<br />\nAt Cloud and Datacenter Convention 2019</p>\n\n<ul>\n	<li>Up to 750 middle to senior level participants</li>\n	<li>Data center\, cloud and telco end-users and operators\, hyperscalers\, system integrators\, consultants\, facility managers\, and more</li>\n	<li>Content-driven convention to bring the industry forward in technology adoption and best practices</li>\n	<li>Cloud + Datacenters + Cybersecurity</li>\n	<li>Ideas-driven expo with display of new technologies and presentations at the technology benches</li>\n	<li>Focusing on networking with senior level participants and global visitors</li>\n	<li>Touch of service - our convention concierge team will invite customers and prospects on your behalf. Instant branding even before the event!</li>\n	<li>Market penetration - get in&nbsp\;touch with industry influencers</li>\n	<li>Increase brand awareness - be correctly perceived by your prospects and clients</li>\n</ul>\nEnding the year with a bang\, the first part of Thailand Cloud &amp\; Datacenter Convention will be held on 6 November.<br />\n&nbsp\;<br />\nGathering over 300 international C-level and local mid to senior IT and data center professionals\, the convention will address current challenges and future thinking to drive the next growth of technology adoption\, skills and businesses.&nbsp\;&nbsp\;<br />\n&nbsp\;<br />\nThe convention will adjourn with networking drinks and a group of selected VIPs and international delegates will engage in private workshop round table discussions.<br />\n&nbsp\;\n<h3><u><em><strong>Speaker list</strong></em></u></h3>\n\n<table border="0" cellpadding="0" cellspacing="0">\n	<tbody>\n		<tr>\n			<td>&nbsp\;<strong>Company</strong></td>\n			<td><strong>Job Title</strong></td>\n		</tr>\n		<tr>\n			<td>Kasikorn Bank</td>\n			<td>VP- Head of IT Relationship Management</td>\n		</tr>\n		<tr>\n			<td>Bangkok Bank PCL</td>\n			<td>VP - Technology</td>\n		</tr>\n		<tr>\n			<td>Cdiscount</td>\n			<td>Head of IT Asia</td>\n		</tr>\n		<tr>\n			<td>ABN Amro Asia Plus Securities</td>\n			<td>Senior Vice President</td>\n		</tr>\n		<tr>\n			<td>Agoda.com</td>\n			<td>Global Network Infrastructure Manager</td>\n		</tr>\n		<tr>\n			<td>Ayudhya Capital Auto Lease</td>\n			<td>Head of IT Security &amp\; Service Desk</td>\n		</tr>\n		<tr>\n			<td>Kiatnakin Bank</td>\n			<td>VP IT Security</td>\n		</tr>\n		<tr>\n			<td>Thai City Electric Co.\, Ltd.</td>\n			<td>Group IT Director</td>\n		</tr>\n		<tr>\n			<td>The Royal Bank of Scotland</td>\n			<td>Country Technology Officer</td>\n		</tr>\n		<tr>\n			<td>Siam Commercial Bank pl</td>\n			<td>EVP\, IT Strategy</td>\n		</tr>\n		<tr>\n			<td>Bank of Thailand</td>\n			<td>Director</td>\n		</tr>\n		<tr>\n			<td>Airport of Thailand</td>\n			<td>Network Director</td>\n		</tr>\n		<tr>\n			<td>The Stock Exchange of Thailand</td>\n			<td>Deputy Head System Management Unit</td>\n		</tr>\n		<tr>\n			<td>Government Savings Bank</td>\n			<td>Senior Vice President of IT operations</td>\n		</tr>\n		<tr>\n			<td>Thai Airways International</td>\n			<td>Acting Director\, IT Infrastructure\, Operations and Services</td>\n		</tr>\n		<tr>\n			<td>PROEN INTERNET</td>\n			<td>VP IDC</td>\n		</tr>\n		<tr>\n			<td>Kerry Logistics Network</td>\n			<td>Regional IT Director</td>\n		</tr>\n		<tr>\n			<td>The Stock Exchange of Thailand</td>\n			<td>Deputy Head - Datacenter</td>\n		</tr>\n	</tbody>\n</table>\n
LOCATION:Sofitel Bangkok Sukhumvit
UID:e.3314.410
SEQUENCE:3
DTSTAMP:20260423T091927Z
URL:http://www.connect.amchamthailand.com/events/details/amcham-partnered-event-cloud-and-datacenter-convention-2019-410
END:VEVENT

END:VCALENDAR
