BEGIN:VCALENDAR
VERSION:2.0
PRODID:-//ChamberMaster//Event Calendar 2.0//EN
METHOD:PUBLISH
X-PUBLISHED-TTL:P3D
REFRESH-INTERVAL:P3D
CALSCALE:GREGORIAN
BEGIN:VEVENT
DTSTART;VALUE=DATE:20200302
DTEND;VALUE=DATE:20200307
TRANSP:TRANSPARENT
X-MICROSOFT-CDO-ALLDAYEVENT:TRUE
SUMMARY:AMCHAM Reduce Single Use Plastics Campaign
DESCRIPTION:Reduce Single-Use!\n\nAMCHAM Challenge\n\n	Every day approximately 8 million pieces of plastic pollution find their way into our oceans (See source here)\n	Thailand produces more than 2 million tons of plastic waste annually (See source here)\n	Scientists have recently discovered micro-plastics embedded deep in the Arctic ice (See source here)\n\n\nCan we make small changes each day to make a big impact?\n\nTake the AMCHAM Challenge to Reduce Single-Use Plastics. Join the AMCHAM team from March 2 to March 6 as they engage in this mindful practice regarding single-use plastic waste. This is an excellent opportunity for your business to engage in team building while helping the environment!\n\n\n\nParticipating is simple:\n\n \n\n\n	From March 2 to March 6\, avoid using single-use plastic or styrofoam items. This includes items like plastic straws\, plastic bags\, and takeaway containers for food and beverages.\n	For every single-use plastic or styrofoam item brought into the office\, donate 5 Baht to a penalty jar. The amount is up to your office! At the AMCHAM office we will use our funds at the end of the week to fund sending our recyclable plastics to the recycling center. \n	At the end of the week\, do a quick reflection with your team on personal single-use plastic use. Are you using more of it than you thought? Can you think of ways to avoid it? What practices will you employ in the future to have an impact?\n	Use these hashtags\, #reducesingleuseplastics and #amchamchallenge to share your posts.\n	 If you are already doing something\, share your stories with our community using the same tags. \n\nStay tuned to the AMCHAM Facebook Page and Instagram Account or follow #amchamchallenge or #ReduceSingleUse for daily tips and facts on reducing single-use plastic waste. If everyone makes a small positive change\, together we can create a huge positive impact.  Contact meagan@amchamthailand.com for more details.
X-ALT-DESC;FMTTYPE=text/html:<strong><span style="font-size:16px\;"><span style="font-size:18px\;"><span style="color:#008000\;">Reduce Single-Use!</span></span><br />\nAMCHAM Challenge</span></strong>\n<ul>\n	<li>Every day approximately&nbsp\;8 million pieces&nbsp\;of&nbsp\;plastic&nbsp\;pollution find their way into our oceans <a href="https://www.sas.org.uk/our-work/plastic-pollution/plastic-pollution-facts-figures/">(See source here)</a></li>\n	<li>Thailand produces more than 2 million tons of plastic waste annually <a href="https://www.bangkokpost.com/thailand/general/1504242/measures-mulled-for-plastic-waste">(See source here)</a></li>\n	<li>Scientists&nbsp\;have recently discovered&nbsp\;micro-plastics&nbsp\;embedded deep in the Arctic ice <a href="https://www.sas.org.uk/our-work/plastic-pollution/plastic-pollution-facts-figures/">(See source here)</a></li>\n</ul>\n\n<p>Can we make small changes each day&nbsp\;to make a big&nbsp\;impact?</p>\n\n<p>Take the AMCHAM Challenge to Reduce Single-Use Plastics. Join the AMCHAM team&nbsp\;from March 2 to March 6 as they engage in this mindful&nbsp\;practice regarding single-use plastic waste. This is an excellent opportunity for your business to engage in team building while helping the environment!<br />\n<br />\n<span style="color:#008000\;"><strong><span style="font-size:18px\;">Participating is simple:</span></strong></span><br />\n&nbsp\;</p>\n\n<ol>\n	<li>From March 2 to March 6\, avoid&nbsp\;using single-use plastic or styrofoam&nbsp\;items. This includes items like plastic straws\, plastic bags\, and takeaway containers for food and beverages.</li>\n	<li>For every single-use plastic or styrofoam item brought into the office\, donate 5 Baht to a penalty&nbsp\;jar. The amount is up to your office! At the AMCHAM office we will use our&nbsp\;funds at the end of the week to fund sending our recyclable plastics to the recycling center.&nbsp\;</li>\n	<li>At the end of the week\, do a quick reflection with your team on personal single-use plastic use. Are you using more of it than you thought? Can you think of ways to avoid it? What practices will you employ&nbsp\;in the future to have an impact?</li>\n	<li>Use these hashtags\,&nbsp\;#reducesingleuseplastics and #amchamchallenge to share your posts.</li>\n	<li>&nbsp\;If you are already doing something\, share your stories with our community using&nbsp\;the same tags.&nbsp\;</li>\n</ol>\nStay tuned to the <a href="http://www.facebook.com/amchamthailand">AMCHAM Facebook Page</a> and <a href="https://www.instagram.com/amcham_thailand/?hl=en">Instagram Accoun</a><a href="http://www.instagram.com/amchamthailand">t</a>&nbsp\;or follow #amchamchallenge or #ReduceSingleUse&nbsp\;for daily tips and facts on reducing single-use plastic waste. If everyone makes a small positive change\, together we can create a huge positive impact.&nbsp\; Contact meagan@amchamthailand.com for more details.<br />\n&nbsp\;
LOCATION:
UID:e.3314.1542
SEQUENCE:3
DTSTAMP:20260423T020653Z
URL:http://www.connect.amchamthailand.com/events/details/amcham-reduce-single-use-plastics-campaign-1542
END:VEVENT

END:VCALENDAR
