BEGIN:VCALENDAR
VERSION:2.0
PRODID:-//ChamberMaster//Event Calendar 2.0//EN
METHOD:PUBLISH
X-PUBLISHED-TTL:P3D
REFRESH-INTERVAL:P3D
CALSCALE:GREGORIAN
BEGIN:VEVENT
DTSTART:20210331T020000Z
DTEND:20210331T030000Z
X-MICROSOFT-CDO-ALLDAYEVENT:FALSE
SUMMARY:AMCHAM Road Safety Planning Meeting
DESCRIPTION:Each year\, Thailand still records one of the highest number of road casualties worldwide. Road safety continues to be a major issue in the country.\n\n\n\nAMCHAM is committed to support the Royal Thai Government to reduce road fatalities and injuries\, especially during the Songkran and New Year holidays.\n\n\n\nFor AMCHAM\, sustainable road safety is everyone's business.\n\n\n\nAMCHAM's Road Safety Campaign 2021 will serve to:\n\n	Promote road safety for AMCHAM members\, employees and community.\n	Share best practices and tangible results on road safety with the Royal Thai Government.\n	Engage and collaborate with relevant government agencies to achieve sustainable outcome.\n\nYou are invited to participate in the planning meeting on March 31\, 2021 at 9:00 AM to discuss the strategy and plan of action to advocate to the Royal Thai Government.\n\n\n\nP.S. Please click here to see AMCHAM Composite Road Safety Campaign Proposal - October 21\, 2019
X-ALT-DESC;FMTTYPE=text/html:Each year\, Thailand still records one of the highest number of road casualties worldwide. Road safety continues to be a major issue in the country.<br />\n<br />\nAMCHAM is committed to support the Royal Thai Government to reduce road fatalities and injuries\, especially during the Songkran and New Year holidays.<br />\n<br />\nFor AMCHAM\, sustainable road safety is everyone&rsquo\;s business.<br />\n<br />\nAMCHAM&#39\;s Road Safety Campaign 2021 will serve to:\n<ul>\n	<li>Promote road safety for AMCHAM members\, employees and community.</li>\n	<li>Share best practices and tangible results on road safety with the Royal Thai Government.</li>\n	<li>Engage and collaborate with relevant government agencies to achieve sustainable outcome.</li>\n</ul>\nYou are invited to participate in the planning meeting on March 31\, 2021 at 9:00 AM to discuss the strategy and plan of action to advocate to the Royal Thai Government.<br />\n<br />\nP.S. Please click <a href="https://secure2.chambermaster.com/mic/Resources/Download/420?memId=-1&amp\;repId=60086&amp\;micVersion=4">here</a> to see&nbsp\;AMCHAM Composite Road Safety Campaign Proposal - October 21\, 2019
LOCATION:Video Conference
UID:e.3314.1893
SEQUENCE:3
DTSTAMP:20260422T030437Z
URL:http://www.connect.amchamthailand.com/events/details/amcham-road-safety-planning-meeting-1893
END:VEVENT

END:VCALENDAR
