BEGIN:VCALENDAR
VERSION:2.0
PRODID:-//ChamberMaster//Event Calendar 2.0//EN
METHOD:PUBLISH
X-PUBLISHED-TTL:P3D
REFRESH-INTERVAL:P3D
CALSCALE:GREGORIAN
BEGIN:VEVENT
DTSTART:20220114T030000Z
DTEND:20220114T040000Z
X-MICROSOFT-CDO-ALLDAYEVENT:FALSE
SUMMARY:AMCHAM Women: Stand Up Against Street Harassment
DESCRIPTION:When you see street harassment\, do you look away uncomfortably? Do you feel the urge to speak up\, but stay silent out of caution?\n\n\n\nStreet harassment is always a big deal. L'Oreal Paris\, Hollaback!\, and Raks Thai have teamed up to share training and tools to help you stand up safely to street harassment\, whether you are a target or a bystander. \n\n\n\nPlease join members of the AMCHAM Women Committee for this important session designed to educate and empower.
X-ALT-DESC;FMTTYPE=text/html:<p apple="" away="" but="" color="" do="" feel="" font-size:="" font-style:="" font-weight:="" look="" of="" out="" p="" see="" segoe="" silent="" span="" speak="" stay="" street="" the="" to="" ui="" urge="" when="" you="">When you see street harassment\, do you look away uncomfortably? Do you feel the urge to speak up\, but stay silent out of caution?<br />\n<br />\nStreet harassment is always a big deal. L&#39\;Oreal Paris\, Hollaback!\, and Raks Thai have teamed up to share training and tools to help you stand up safely to street harassment\, whether you are a target or a bystander.&nbsp\;<br />\n<br />\nPlease join members of the AMCHAM Women Committee for this important session designed to educate and empower.&nbsp\;</p>\n
LOCATION:Video conference
UID:e.3314.2104
SEQUENCE:3
DTSTAMP:20260421T090328Z
URL:http://www.connect.amchamthailand.com/events/details/amcham-women-stand-up-against-street-harassment-2104
END:VEVENT

END:VCALENDAR
