BEGIN:VCALENDAR
VERSION:2.0
PRODID:-//ChamberMaster//Event Calendar 2.0//EN
METHOD:PUBLISH
X-PUBLISHED-TTL:P3D
REFRESH-INTERVAL:P3D
CALSCALE:GREGORIAN
BEGIN:VEVENT
DTSTART:20201027T070000Z
DTEND:20201027T080000Z
X-MICROSOFT-CDO-ALLDAYEVENT:FALSE
SUMMARY:Annual General Meeting
DESCRIPTION:Please join us for the Annual General Meeting for 2020.\n\n\n\nThis online event will serve as the Annual General Meeting for the purposes of approving the 2019 President's report and Audited Financial Statements along with the appointment of the 2020 Auditors. \n\n\n\nAt the close of the meeting our new Board Governors for the 2021-22 term will be announced.\n\n\n\n* A video conference link will be sent to all registrants at close of business on October 26.
X-ALT-DESC;FMTTYPE=text/html:<p>Please join us for the Annual General Meeting for 2020.<br />\n<br />\nThis online event will&nbsp\;serve as the Annual General Meeting for the purposes of approving the&nbsp\;<a href="https://secure2.chambermaster.com/mic/Resources/Download/252?memId=-1&amp\;repId=60085&amp\;micVersion=4">2019&nbsp\;President&#39\;s report</a>&nbsp\;and&nbsp\;<a href="https://secure2.chambermaster.com/mic/Resources/Download/250?memId=-1&amp\;repId=60085&amp\;micVersion=4">Audited Financial Statements</a>&nbsp\;along with the appointment of the 2020&nbsp\;Auditors.&nbsp\;<br />\n<br />\nAt the close of the meeting our new Board Governors for the 2021-22&nbsp\;term will be announced.<br />\n<br />\n* A video conference link will be sent to all registrants at close of business on&nbsp\;October&nbsp\;26.</p>\n
LOCATION:Video Conference
UID:e.3314.1566
SEQUENCE:3
DTSTAMP:20260422T112128Z
URL:http://www.connect.amchamthailand.com/events/details/annual-general-meeting-1566
END:VEVENT

END:VCALENDAR
