BEGIN:VCALENDAR
VERSION:2.0
PRODID:-//ChamberMaster//Event Calendar 2.0//EN
METHOD:PUBLISH
X-PUBLISHED-TTL:P3D
REFRESH-INTERVAL:P3D
CALSCALE:GREGORIAN
BEGIN:VEVENT
DTSTART:20191030T050000Z
DTEND:20191030T070000Z
X-MICROSOFT-CDO-ALLDAYEVENT:FALSE
SUMMARY:Annual General Meeting & Monthly Luncheon
DESCRIPTION:Please join us for the Annual General Meeting and cast your vote for the 2020-21 Board of Governors. \n\n\n\nOur keynote speaker for the month is Napatra Charassuvichakanich from Google Thailand\, who will present on Building for Thailand's Digital Future.  Napatra manages the Financial Services sector for Google Thailand\, where she works in partnership with key clients to digitize how financial services are discovered and sold to increasingly connected Thais. Her talk will focus on exploring key areas of growth in Thailand's digital economy\, present where we are on digital readiness and share how businesses can seize opportunities.\n\n\n\nAt the close of the meeting our new Board Governors for the 2020-21 term will be announced.\n\n\n\nMENU\n\n*  Celeriac carpaccio\, waldorff\n\n    (A next level waldorff salad with thinly sliced celeriac carpaccio\, red & green apple\, yoghurt ranch\, pecan and apple chips)\n\n*  Line caught seabass\, zucchini\, potato gallate\, sauce vierge\n\n*  Apple crumble tart\, vanilla anglaise\n\n\n\nVegetarian option available.   Please indicate when booking.
X-ALT-DESC;FMTTYPE=text/html:<p>Please join us for the Annual General Meeting and cast your vote for&nbsp\;the 2020-21&nbsp\;Board of Governors.&nbsp\;<br />\n<br />\nOur keynote speaker for the month is Napatra Charassuvichakanich from Google Thailand\, who will present on&nbsp\;<strong>Building for Thailand&#39\;s Digital Future.&nbsp\;&nbsp\;</strong>Napatra manages the Financial Services sector for Google Thailand\, where she works in partnership with key clients to digitize how financial services&nbsp\;are discovered and sold to increasingly connected Thais.&nbsp\;Her talk will focus on exploring key areas of growth in Thailand&#39\;s digital economy\, present where we are on digital readiness and share how businesses can seize opportunities.<br />\n<br />\nAt the close of the meeting our new Board Governors for the 2020-21 term will be announced.<br />\n<br />\n<u open="" style="font-family:\; box-sizing: border-box\;"><span style="font-weight: bolder\; box-sizing: border-box\;">MENU</span></u><br open="" style="font-family:\; box-sizing: border-box\;" />\n<span open="" style="color: rgb(68\, 68\, 68)\; font-family:\;">*&nbsp\; Celeriac carpaccio\, waldorff<br />\n&nbsp\; &nbsp\; (A next level waldorff salad with thinly sliced celeriac carpaccio\, red &amp\; green apple\, yoghurt ranch\, pecan and apple chips)</span><br open="" style="font-family:\; box-sizing: border-box\;" />\n<span open="" style="color: rgb(68\, 68\, 68)\; font-family:\;">*&nbsp\; Line caught seabass\, zucchini\, potato gallate\, sauce vierge</span><br open="" style="font-family:\; box-sizing: border-box\;" />\n<span open="" style="color: rgb(68\, 68\, 68)\; font-family:\;">*&nbsp\; Apple crumble tart\, vanilla anglaise</span><br open="" style="font-family:\; box-sizing: border-box\;" />\n<br open="" style="font-family:\; box-sizing: border-box\;" />\n<span open="" style="color: rgb(68\, 68\, 68)\; font-family:\;">Vegetarian option available.&nbsp\; &nbsp\;Please indicate when booking.</span></p>\n
LOCATION:M venpick BDMS Wellness Resort 2 Wireless Road Lumpini\, Bangkok BTS: Ploenchit
UID:e.3314.387
SEQUENCE:3
DTSTAMP:20260423T091353Z
URL:http://www.connect.amchamthailand.com/events/details/annual-general-meeting-monthly-luncheon-10-30-2019-387
END:VEVENT

END:VCALENDAR
