BEGIN:VCALENDAR
VERSION:2.0
PRODID:-//ChamberMaster//Event Calendar 2.0//EN
METHOD:PUBLISH
X-PUBLISHED-TTL:P3D
REFRESH-INTERVAL:P3D
CALSCALE:GREGORIAN
BEGIN:VEVENT
DTSTART:20220324T060000Z
DTEND:20220324T070000Z
X-MICROSOFT-CDO-ALLDAYEVENT:FALSE
SUMMARY:Annual General Meeting with H.E. Varawut Silpa-archa\, Minister of Natural Resources and Environment
DESCRIPTION:AMCHAM is honored to welcome H.E. Varawut Silpa-archa\, the Minister of Natural Resources and Environment\, to address the membership at our Annual General Meeting. \n\n \n\nEnvironmental protection\, renewable energy\, and energy transition are priorities of the Royal Thai Government as part of its strategy to foster sustainable and inclusive growth. These priorities are reflected in national policies like the Bio-Circular-Green (BCG) Economy Model\, as well as commitments in the international arena\, such as the UN Climate Change Conference (COP26) commitment to reach carbon neutrality by 2050 and net zero greenhouse gas emissions by 2065. \n\n\n\nPlease join the Board of Governors to welcome our distinguished guest\, H.E. Varawut Silpa-archa\, the Minister of Natural Resources and Environment. The Minister will provide remarks on the government strategies to achieve goals on environmental protection and greenhouse gas reduction\, as well as ideas on public-private collaborations to achieve the shared goal of sustainable economic growth. \n\n\n\nThis event will also serve as the Annual General Meeting for the purposes of approving the 2021 President's report and Audited Financial Statements along with the appointment of the 2022 Auditors.
X-ALT-DESC;FMTTYPE=text/html:AMCHAM is honored to welcome H.E. Varawut Silpa-archa\, the Minister of Natural Resources and Environment\, to address the membership at our Annual General Meeting.&nbsp\;<br />\n&nbsp\;<br />\nEnvironmental protection\, renewable energy\, and energy transition are priorities of the Royal Thai Government as part of its strategy to foster sustainable and inclusive growth. These priorities are reflected in national policies like the Bio-Circular-Green (BCG) Economy Model\, as well as commitments in the international arena\, such as the UN Climate Change Conference (COP26) commitment to reach carbon neutrality by 2050 and net zero greenhouse gas emissions by 2065.&nbsp\;<br />\n<br />\nPlease join the Board of Governors to welcome our distinguished guest\, H.E. <a href="https://secure2.chambermaster.com/mic/Resources/Download/515?memId=-1&amp\;repId=60086&amp\;micVersion=4">Varawut Silpa-archa</a>\,&nbsp\;the Minister of Natural Resources and Environment. The Minister will provide remarks on the government strategies to achieve goals on environmental protection and greenhouse gas reduction\, as well as ideas on public-private collaborations to achieve the shared goal of sustainable economic growth.&nbsp\;<br />\n<br />\nThis event will also serve as the Annual General Meeting for the purposes of approving the <a href="https://secure2.chambermaster.com/mic/Resources/Download/522?memId=-1&amp\;repId=60539">2021 President&#39\;s report</a> and <a href="https://secure2.chambermaster.com/mic/Resources/Download/519?memId=-1&amp\;repId=60539&amp\;micVersion=4">Audited Financial</a> <a href="https://secure2.chambermaster.com/mic/Resources/Download/520?memId=-1&amp\;repId=60539&amp\;micVersion=4">Statements</a> along with the appointment of the 2022 Auditors.
LOCATION:Webinar
UID:e.3314.2160
SEQUENCE:3
DTSTAMP:20260421T052016Z
URL:http://www.connect.amchamthailand.com/events/details/annual-general-meeting-with-h-e-varawut-silpa-archa-minister-of-natural-resources-and-environment-2160
END:VEVENT

END:VCALENDAR
