BEGIN:VCALENDAR
VERSION:2.0
PRODID:-//ChamberMaster//Event Calendar 2.0//EN
METHOD:PUBLISH
X-PUBLISHED-TTL:P3D
REFRESH-INTERVAL:P3D
CALSCALE:GREGORIAN
BEGIN:VEVENT
DTSTART:20190404T013000Z
DTEND:20190404T110000Z
X-MICROSOFT-CDO-ALLDAYEVENT:FALSE
SUMMARY:ASEAN PPP Summit 2019
DESCRIPTION:AMCHAM\, together with Mahanakorn Partners Group\, TICC\, JFCCT\, GTCC\, FTCC\, EABC\, and Oxford Business Group\, is delighted to invite you to the leading regional forum on infrastructure investment in Southeast Asia. The exclusive one-day conference will host an audience of international investors and professionals\, with the aim of attracting foreign direct investment and fostering business opportunities in ASEAN.\n\n\n\nOur distinguished speakers will be dignitaries and ministers of the Royal Thai government and of other ASEAN member states\, as well as global business leader\n\n\n\nAGENDA\n\n8:30 am: Registration Opening\n\n9:00 am: Opening remarks by H. E. Lorenzo Galanti the Ambassador of Italy\n\n9:15 am: Opening Address by Opening Address by Mr. Arkhom Termpittayapaisith on behalf of Prime Minister of Thailand\n\n9:25 am: Photo Sessions on stage\n\n9:30 am: Introduction by Mr. Luca Bernardinetti\, Chairman of Mahanakorn Partners Group\n\n10:00 am: Mr. Arkhom Termpittayapaisith\, Minister of Transportation   \n\n10:30 am: Coffee break  \n\n11:00 am: Mr. Veerasak Kositpaisal\, The Federation of Thai Industries \n\n12:00 pm: Lunch Buffet\n\n1:30 pm: Panel Discussion   PPP Project Finance in ASEAN   World Bank Group\n\n2:30 pm: Panel Discussion   Credit Enhancement and Financial Structuring   MPG and AJG\n\n3:30 pm: Coffee break\n\n4:00 pm: Panel Discussion   Infrastructure\, Energy\, Transportation and Communication\n\n5:00 pm: Round up Speech by MPG\n\n5:30 pm: Conclusion and Networking\n\n\n\nCorporate sponsorships for this event are available. For more information\, please contact sheree@amchamthailand.com.
X-ALT-DESC;FMTTYPE=text/html:AMCHAM\, together with Mahanakorn Partners Group\, TICC\, JFCCT\, GTCC\, FTCC\, EABC\, and Oxford Business Group\, is delighted to invite you to the leading regional forum on infrastructure investment in Southeast Asia. The exclusive one-day conference&nbsp\;will host an audience of international investors and professionals\, with the aim of attracting foreign direct investment and fostering business opportunities in ASEAN.<br />\n<br />\nOur distinguished speakers will be dignitaries and ministers of&nbsp\;the Royal Thai government and of other ASEAN member states\, as well as global business leader<br />\n<br />\n<strong>AGENDA</strong><br />\n8:30 am:&nbsp\;Registration Opening<br />\n9:00 am:&nbsp\;Opening remarks by H. E. Lorenzo Galanti the Ambassador of Italy<br />\n9:15 am: Opening Address by Opening Address by Mr. Arkhom Termpittayapaisith&nbsp\;on behalf&nbsp\;of Prime Minister of Thailand<br />\n9:25 am: Photo Sessions on stage<br />\n9:30 am:&nbsp\;Introduction by Mr. Luca Bernardinetti\, Chairman of Mahanakorn Partners Group<br />\n10:00 am:&nbsp\;Mr. Arkhom Termpittayapaisith\, Minister of Transportation&nbsp\; &nbsp\;<br />\n10:30 am:&nbsp\;Coffee break&nbsp\;&nbsp\;<br />\n11:00 am:&nbsp\;Mr. Veerasak Kositpaisal\, The Federation of Thai Industries&nbsp\;<br />\n12:00 pm:&nbsp\;Lunch Buffet<br />\n1:30 pm:&nbsp\;Panel Discussion &ndash\; PPP Project Finance in ASEAN &ndash\; World Bank Group<br />\n2:30 pm: Panel Discussion &ndash\; Credit Enhancement and Financial Structuring &ndash\; MPG and AJG<br />\n3:30 pm:&nbsp\;Coffee break<br />\n4:00 pm:&nbsp\;Panel Discussion &ndash\; Infrastructure\, Energy\, Transportation and Communication<br />\n5:00 pm:&nbsp\;Round up Speech by MPG<br />\n5:30 pm:&nbsp\;Conclusion and Networking<br />\n<br />\nCorporate sponsorships for this event are available. For more information\, please contact sheree@amchamthailand.com.<br />\n&nbsp\;
LOCATION:Bangkok Marriott Marquis Queen's Park Nearest BTS: Phrom Phong Nearest MRT: Asok
UID:e.3314.206
SEQUENCE:3
DTSTAMP:20260423T190153Z
URL:http://www.connect.amchamthailand.com/events/details/asean-ppp-summit-2019-206
END:VEVENT

END:VCALENDAR
