BEGIN:VCALENDAR
VERSION:2.0
PRODID:-//ChamberMaster//Event Calendar 2.0//EN
METHOD:PUBLISH
X-PUBLISHED-TTL:P3D
REFRESH-INTERVAL:P3D
CALSCALE:GREGORIAN
BEGIN:VEVENT
DTSTART:20210916T070000Z
DTEND:20210916T080000Z
X-MICROSOFT-CDO-ALLDAYEVENT:FALSE
SUMMARY:Auto Council: Industry Outlook for Thailand/ASEAN in 2021 and 2022
DESCRIPTION:In our efforts to bring the latest\, industry-relevant developments of Thailand/ASEAN auto sector\, we are most pleased that the AMCHAM Auto Council is proudly presenting Jessada Thongpak\, Manager\, ASEAN Vehicle Production Forecast\, IHS Markit\, as the guest speaker.\n\n \n\nFor 2021 and the past year\, the auto industry as a whole\, has been and continues experiencing business impacts from the Covid-19 pandemic.\n\n \n\nDespite being under duress at various fronts ranging from weak market demand\, chips supply shortage to potential disruption of industry supply chain due to Covid-19\, the auto industry remains hopeful and is prepared to face the exciting new frontiers ahead whether in the areas of connectivity\, A.I.\, autonomous technology\, sharing economy and electrification\, to mention a few.\n\n \n\nAt the upcoming Auto Council meeting\, our guest speaker will focus on the following key areas\, including:\n\n	Industry outlook for Thailand/ASEAN for 2021 and 2022 in relation to the current impact by the Covid-19 pandemic and the global chip shortage\n	View on Thailand's recent ZEV (Zero-Emission Vehicles) vision "100@2035" (100% ZEV adoption by year 2035) announced by the National Electric Vehicle Policy Committee\n	Trade and investment opportunity for the key regional markets\, including Thailand\, for new-technology vehicles:\n	\n		What is the Electrified Vehicles (xEVs) export opportunity for Thailand?\n		What is the Electrified Vehicle (xEV) outlook in other ASEAN markets\, and will these markets present competition/risk or opportunity to Thailand's BEV ambition?\n	\n	\n\nFuture prospects for Internal-Combustion Engine (ICE) vehicles in the next 5-10 years\n\n           \n\nLatest automotive policy developments will also be highlighted by the report of the Auto Council's Policy Working Group.\n\n\n\nAbout Speaker\n\nJessada Thongpak\, Manager\, ASEAN Light Vehicle Forecast\, IHS Markit\, Bangkok\, Thailand. Jessada is an automotive analyst at IHS Markit\, based in Bangkok\, covering the light vehicle forecasting across Southeast Asia region (ASEAN) including Indonesia\, Malaysia\, Philippines\, Thailand and Vietnam. He has more than 18 years of experience in automotive industry in ASEAN region\, and his expertise also includes global and regional automotive manufacturing and market research in OEM's strategic analysis\, automotive technology and mobility trends. He holds MBA from Khonkaen University.
X-ALT-DESC;FMTTYPE=text/html:In our efforts to bring the latest\, industry-relevant developments of Thailand/ASEAN auto sector\, we are most pleased that the AMCHAM Auto Council is proudly presenting Jessada Thongpak\, Manager\, ASEAN Vehicle Production Forecast\,&nbsp\;IHS Markit\, as the guest speaker.<br />\n&nbsp\;<br />\nFor 2021 and the past year\, the auto industry as a whole\, has been and continues experiencing business impacts from the Covid-19 pandemic.<br />\n&nbsp\;<br />\nDespite being under duress at various fronts ranging from weak market demand\, chips supply shortage to potential disruption of industry supply chain due to Covid-19\, the auto industry remains hopeful and is prepared to face the exciting new frontiers ahead whether in the areas of connectivity\, A.I.\, autonomous technology\, sharing economy and electrification\, to mention a few.<br />\n&nbsp\;<br />\nAt the upcoming Auto Council meeting\, our guest speaker will focus on the following key areas\, including:\n<ul>\n	<li>Industry outlook for Thailand/ASEAN for 2021 and 2022 in relation to the current impact by the Covid-19 pandemic and the global chip shortage</li>\n	<li>View on Thailand&#39\;s recent ZEV (Zero-Emission Vehicles) vision &quot\;100@2035&quot\;&nbsp\;(100% ZEV adoption by year 2035) announced by the National Electric Vehicle Policy Committee</li>\n	<li>Trade and investment opportunity for the key regional markets\, including Thailand\, for new-technology vehicles:\n	<ul>\n		<li>What is the Electrified Vehicles (xEVs) export opportunity for Thailand?</li>\n		<li>What is the Electrified Vehicle (xEV) outlook in other ASEAN markets\, and will these markets present competition/risk or opportunity to Thailand&#39\;s BEV ambition?</li>\n	</ul>\n	</li>\n</ul>\nFuture prospects for Internal-Combustion Engine (ICE) vehicles in the next 5-10 years<br />\n&nbsp\;&nbsp\;&nbsp\;&nbsp\;&nbsp\;&nbsp\;&nbsp\;&nbsp\;&nbsp\;&nbsp\;&nbsp\;<br />\nLatest automotive policy developments will also be highlighted by the report of the Auto Council&rsquo\;s Policy Working Group.<br />\n<br />\n<u><strong>About Speaker</strong></u><br />\nJessada Thongpak\,&nbsp\;Manager\, ASEAN Light Vehicle Forecast\,&nbsp\;IHS Markit\, Bangkok\, Thailand.&nbsp\;Jessada is an automotive analyst at IHS Markit\, based in Bangkok\, covering the light vehicle forecasting across Southeast Asia region (ASEAN) including Indonesia\, Malaysia\, Philippines\, Thailand and Vietnam. He has more than 18 years of experience in automotive industry in ASEAN region\, and his expertise also includes global and regional automotive manufacturing and market research in OEM&rsquo\;s&nbsp\;strategic analysis\, automotive technology and mobility trends. He holds MBA from Khonkaen University.
LOCATION:Webinar
UID:e.3314.1972
SEQUENCE:3
DTSTAMP:20260421T160142Z
URL:http://www.connect.amchamthailand.com/events/details/auto-council-industry-outlook-for-thailand-asean-in-2021-and-2022-1972
END:VEVENT

END:VCALENDAR
