BEGIN:VCALENDAR
VERSION:2.0
PRODID:-//ChamberMaster//Event Calendar 2.0//EN
METHOD:PUBLISH
X-PUBLISHED-TTL:P3D
REFRESH-INTERVAL:P3D
CALSCALE:GREGORIAN
BEGIN:VEVENT
DTSTART:20200522T030000Z
DTEND:20200522T043000Z
X-MICROSOFT-CDO-ALLDAYEVENT:FALSE
SUMMARY:Auto Council: Industry Update
DESCRIPTION:The Auto Council Chairs are meeting to discuss the latest auto industry developments. They will be focusing on the impacts from COVID-19 and the industry's on-going dialogue with government for assistance and relief measures.\n\n\n\nPlease join us for this video conference event to gain insight\, advice and updates from auto industry executives of AMCHAM. Please note that the invitation to attend will be extended to AMCHAM member representatives who are part of the automotive industry in Thailand.
X-ALT-DESC;FMTTYPE=text/html:<p>The Auto Council Chairs are meeting to discuss the latest auto industry developments. They will be focusing on the impacts from COVID-19 and the industry&#39\;s on-going dialogue with government for assistance and relief measures.<br />\n<br />\nPlease join us for this video conference event to gain insight\, advice and updates from auto industry executives of AMCHAM. Please note that the invitation to attend will be extended to AMCHAM member representatives who are part of the automotive industry in Thailand.</p>\n
LOCATION:Online Video Conference
UID:e.3314.1615
SEQUENCE:3
DTSTAMP:20260422T201119Z
URL:http://www.connect.amchamthailand.com/events/details/auto-council-industry-update-1615
END:VEVENT

END:VCALENDAR
