BEGIN:VCALENDAR
VERSION:2.0
PRODID:-//ChamberMaster//Event Calendar 2.0//EN
METHOD:PUBLISH
X-PUBLISHED-TTL:P3D
REFRESH-INTERVAL:P3D
CALSCALE:GREGORIAN
BEGIN:VEVENT
DTSTART:20230310T070000Z
DTEND:20230310T080000Z
X-MICROSOFT-CDO-ALLDAYEVENT:FALSE
SUMMARY:Aviation Industry Update 2023 for APAC
DESCRIPTION:Join the Tourism & Hospitality Committee and Aerospace Council for an look ahead at what to expect in the aviation industry in 2023.\n\n\n\nOur speaker\, Allan Schulte of Bain & Company\, will focus on recent trends and the forward looking outlook for return of air lift capacity in the APAC region\, with a particular focus on ASEAN and Thailand. Which markets will be the major beneficiaries of recovery? What are the the major source markets behind China\, which will lead the pack? What structural changes are taking place between legacy and low cost carriers? What aircraft configurations and types of aircraft will we be seeing over the coming 4-5 years. These and other topics will be the subject of conversation\, followed by Q&A and a general free flow discussion on the state of the Thai and regional aviation industry.\n\n \n\nAbout the Speaker:\n\nAllan Schulte is a Partner in the Bangkok office of Bain & Company\, where he is head of the Asia-Pacific Airlines\, Logistics and Transportation Sector. Allan serves as an adviser to multiple airline boards and potential airline investors and advises clients across a range of additional industries including food and beverages and telecommunications. Allan holds an MBA from INSEAD and a B.A. in economics from Carleton College.
X-ALT-DESC;FMTTYPE=text/html:Join the Tourism &amp\; Hospitality Committee and Aerospace Council for an look ahead at what to expect in the aviation industry in 2023.<br />\n<br />\nOur speaker\, Allan Schulte of Bain &amp\; Company\, will focus on recent trends and the forward looking outlook for return of air lift capacity in the APAC region\, with a particular focus on ASEAN and Thailand. Which markets will be the major beneficiaries of recovery? What are the the major source markets behind China\, which will lead the pack? What structural changes are taking place between legacy and low cost carriers? What aircraft configurations and types of aircraft will we be seeing over the coming 4-5 years. These and other topics will be the subject of conversation\, followed by Q&amp\;A and a general free flow discussion on the state of the Thai and regional aviation industry.<br />\n&nbsp\;<br />\n<strong>About the Speaker:</strong><br />\n<a href="https://www.linkedin.com/in/allan-f-schulte/">Allan Schulte</a> is a Partner in the Bangkok office of Bain &amp\; Company\, where he is head of the Asia-Pacific Airlines\, Logistics and Transportation Sector. Allan serves as an adviser to multiple airline boards and potential airline investors and advises clients across a range of additional industries including food and beverages and telecommunications. Allan holds an MBA from INSEAD and a B.A. in economics from Carleton College.
LOCATION:Video Conference or the Meeting Room 12A.4 at True Digital Park\, Griffin Building\, 12.Ath Floor BTS: Punnawithi (direct exit to True Digital Park) For directions to the Griffin Building\, click here.
UID:e.3314.2500
SEQUENCE:3
DTSTAMP:20260420T070339Z
URL:http://www.connect.amchamthailand.com/events/details/aviation-industry-update-2023-for-apac-2500
END:VEVENT

END:VCALENDAR
