BEGIN:VCALENDAR
VERSION:2.0
PRODID:-//ChamberMaster//Event Calendar 2.0//EN
METHOD:PUBLISH
X-PUBLISHED-TTL:P3D
REFRESH-INTERVAL:P3D
CALSCALE:GREGORIAN
BEGIN:VEVENT
DTSTART:20210826T080000Z
DTEND:20210826T090000Z
X-MICROSOFT-CDO-ALLDAYEVENT:FALSE
SUMMARY:Bangkok-Get Up\, Stand Up: Critical Insights for Thai Tourism and Hotels
DESCRIPTION:Register Here!\n\n\n\nBangkok is a global tourism giant and Its tourism and hotel sectors are lead indicators in the country's economic wellbeing. Now\, as in never before is the time for an in-depth candid discussion on where we are now and what comes next. Join the conversation and listen to how hotels are responding to business trading issues\, staff management\, restaurant and bar closures and travel restrictions.\n\n\n\nOur speakers are key hospitality industry players in Bangkok and represent the view directly from the ground. See relevant market data from STR\, Horwath HTL and JLL. Talk about cost measures\, continuing liquidity issues and how and when the situation might change.\n\n\n\nThis is part of a continuing series of virtual hospitality events from Delivering Asia Communications and C9 Hotelworks which is intended to create forward looking conversations\, promote a critical rethink of the industry and offer learnings for the hotel industry. This special session is in conjunction with the American Chamber of Commerce Thailand (AMCHAM) and Horwath HTL.\n\n\n\nSign up now for this not to be missed event special event for hoteliers\, hotel owners and developers\, operators\, travel and tourism businesses and industry media.\n\n\n\nSpeakers\n\n  Stephan Vanden Auweele   Chief Hospitality Group Officer\, Asset World Corporation (AWC)\n\n  Jesper Palmqvist   Area Director - Asia Pacific\, STR\n\n  Nikhom Jensiriratanakorn\, Director-Thailand\, Horwath HTL\n\n  Chakkrit Chakrabandhu Na Ayudhya\, Executive Vice President\, JLL Hotels & Hospitality Group\n\n  Trevor MacKenzie   Managing Director\, COCA & Mango Tree Restaurants Worldwide\n\n  Peter Weibel   Regional Director   Sales & Marketing\, Tour East (Thailand)\n\n  Charles Blocker\, CEO\, IC Partners Limited\n\nCo-Moderators\n\n  Bill Barnett\, Managing Director\, C9 Hotelworks\n\n  David Johnson   CEO\, Delivering Asia Communications\n\n\n\nMore information/questions:\n\nSumi Soorian\n\nBusiness Development Director\n\nDelivering Asia Communications\n\ne: ss@deliveringasia.com\n\nRegister Here!
X-ALT-DESC;FMTTYPE=text/html:<p><span style="color: rgb(35\, 35\, 51)\; font-family: Lato\, Helvetica\, Arial\; font-size: 14px\;"><span style="font-size:18px\;"><strong><a href="https://us02web.zoom.us/webinar/register/WN_PY2ldegDSfSKhMj7rWmHow">Register Here</a>!</strong></span><br />\n<br />\nBangkok is a global tourism giant and Its tourism and hotel sectors are lead indicators in the country&rsquo\;s economic wellbeing. Now\, as in never before is the time for an in-depth candid discussion on where we are now and what comes next. Join the conversation and listen to how hotels are responding to business trading issues\, staff management\, restaurant and bar closures and travel restrictions.</span><br />\n<br style="box-sizing: border-box\; color: rgb(35\, 35\, 51)\; font-family: Lato\, Helvetica\, Arial\; font-size: 14px\;" />\n<span style="color: rgb(35\, 35\, 51)\; font-family: Lato\, Helvetica\, Arial\; font-size: 14px\;">Our speakers are key hospitality industry players in Bangkok and represent the view directly from the ground. See relevant market data from STR\, Horwath HTL and JLL. Talk about cost measures\, continuing liquidity issues and how and when the situation might change.</span><br />\n<br style="box-sizing: border-box\; color: rgb(35\, 35\, 51)\; font-family: Lato\, Helvetica\, Arial\; font-size: 14px\;" />\n<span style="color: rgb(35\, 35\, 51)\; font-family: Lato\, Helvetica\, Arial\; font-size: 14px\;">This is part of a continuing series of virtual hospitality events from Delivering Asia Communications and C9 Hotelworks which is intended to create forward looking conversations\, promote a critical rethink of the industry and offer learnings for the hotel industry. This special session is in conjunction with the American Chamber of Commerce Thailand (AMCHAM) and Horwath HTL.</span><br style="box-sizing: border-box\; color: rgb(35\, 35\, 51)\; font-family: Lato\, Helvetica\, Arial\; font-size: 14px\;" />\n<br />\n<span style="color: rgb(35\, 35\, 51)\; font-family: Lato\, Helvetica\, Arial\; font-size: 14px\;">Sign up now for this not to be missed event special event for hoteliers\, hotel owners and developers\, operators\, travel and tourism businesses and industry media.</span><br style="box-sizing: border-box\; color: rgb(35\, 35\, 51)\; font-family: Lato\, Helvetica\, Arial\; font-size: 14px\;" />\n<br style="box-sizing: border-box\; color: rgb(35\, 35\, 51)\; font-family: Lato\, Helvetica\, Arial\; font-size: 14px\;" />\n<span style="color: rgb(35\, 35\, 51)\; font-family: Lato\, Helvetica\, Arial\; font-size: 14px\;">Speakers</span><br style="box-sizing: border-box\; color: rgb(35\, 35\, 51)\; font-family: Lato\, Helvetica\, Arial\; font-size: 14px\;" />\n<span style="color: rgb(35\, 35\, 51)\; font-family: Lato\, Helvetica\, Arial\; font-size: 14px\;">&bull\; Stephan Vanden Auweele &ndash\; Chief Hospitality Group Officer\, Asset World Corporation (AWC)</span><br style="box-sizing: border-box\; color: rgb(35\, 35\, 51)\; font-family: Lato\, Helvetica\, Arial\; font-size: 14px\;" />\n<span style="color: rgb(35\, 35\, 51)\; font-family: Lato\, Helvetica\, Arial\; font-size: 14px\;">&bull\; Jesper Palmqvist &ndash\; Area Director - Asia Pacific\, STR</span><br style="box-sizing: border-box\; color: rgb(35\, 35\, 51)\; font-family: Lato\, Helvetica\, Arial\; font-size: 14px\;" />\n<span style="color: rgb(35\, 35\, 51)\; font-family: Lato\, Helvetica\, Arial\; font-size: 14px\;">&bull\; Nikhom Jensiriratanakorn\, Director-Thailand\, Horwath HTL</span><br style="box-sizing: border-box\; color: rgb(35\, 35\, 51)\; font-family: Lato\, Helvetica\, Arial\; font-size: 14px\;" />\n<span style="color: rgb(35\, 35\, 51)\; font-family: Lato\, Helvetica\, Arial\; font-size: 14px\;">&bull\; Chakkrit Chakrabandhu Na Ayudhya\, Executive Vice President\, JLL Hotels &amp\; Hospitality Group</span><br style="box-sizing: border-box\; color: rgb(35\, 35\, 51)\; font-family: Lato\, Helvetica\, Arial\; font-size: 14px\;" />\n<span style="color: rgb(35\, 35\, 51)\; font-family: Lato\, Helvetica\, Arial\; font-size: 14px\;">&bull\; Trevor MacKenzie &ndash\; Managing Director\, COCA &amp\; Mango Tree Restaurants Worldwide</span><br style="box-sizing: border-box\; color: rgb(35\, 35\, 51)\; font-family: Lato\, Helvetica\, Arial\; font-size: 14px\;" />\n<span style="color: rgb(35\, 35\, 51)\; font-family: Lato\, Helvetica\, Arial\; font-size: 14px\;">&bull\; Peter Weibel &ndash\; Regional Director &ndash\; Sales &amp\; Marketing\, Tour East (Thailand)</span><br style="box-sizing: border-box\; color: rgb(35\, 35\, 51)\; font-family: Lato\, Helvetica\, Arial\; font-size: 14px\;" />\n<span style="color: rgb(35\, 35\, 51)\; font-family: Lato\, Helvetica\, Arial\; font-size: 14px\;">&bull\; Charles Blocker\, CEO\, IC Partners Limited</span><br style="box-sizing: border-box\; color: rgb(35\, 35\, 51)\; font-family: Lato\, Helvetica\, Arial\; font-size: 14px\;" />\n<span style="color: rgb(35\, 35\, 51)\; font-family: Lato\, Helvetica\, Arial\; font-size: 14px\;">Co-Moderators</span><br style="box-sizing: border-box\; color: rgb(35\, 35\, 51)\; font-family: Lato\, Helvetica\, Arial\; font-size: 14px\;" />\n<span style="color: rgb(35\, 35\, 51)\; font-family: Lato\, Helvetica\, Arial\; font-size: 14px\;">&bull\; Bill Barnett\, Managing Director\, C9 Hotelworks</span><br style="box-sizing: border-box\; color: rgb(35\, 35\, 51)\; font-family: Lato\, Helvetica\, Arial\; font-size: 14px\;" />\n<span style="color: rgb(35\, 35\, 51)\; font-family: Lato\, Helvetica\, Arial\; font-size: 14px\;">&bull\; David Johnson &ndash\; CEO\, Delivering Asia Communications</span><br style="box-sizing: border-box\; color: rgb(35\, 35\, 51)\; font-family: Lato\, Helvetica\, Arial\; font-size: 14px\;" />\n<br />\n<span style="color: rgb(35\, 35\, 51)\; font-family: Lato\, Helvetica\, Arial\; font-size: 14px\;">More information/questions:</span><br style="box-sizing: border-box\; color: rgb(35\, 35\, 51)\; font-family: Lato\, Helvetica\, Arial\; font-size: 14px\;" />\n<span style="color: rgb(35\, 35\, 51)\; font-family: Lato\, Helvetica\, Arial\; font-size: 14px\;">Sumi Soorian</span><br style="box-sizing: border-box\; color: rgb(35\, 35\, 51)\; font-family: Lato\, Helvetica\, Arial\; font-size: 14px\;" />\n<span style="color: rgb(35\, 35\, 51)\; font-family: Lato\, Helvetica\, Arial\; font-size: 14px\;">Business Development Director</span><br style="box-sizing: border-box\; color: rgb(35\, 35\, 51)\; font-family: Lato\, Helvetica\, Arial\; font-size: 14px\;" />\n<span style="color: rgb(35\, 35\, 51)\; font-family: Lato\, Helvetica\, Arial\; font-size: 14px\;">Delivering Asia Communications</span><br style="box-sizing: border-box\; color: rgb(35\, 35\, 51)\; font-family: Lato\, Helvetica\, Arial\; font-size: 14px\;" />\n<span style="color: rgb(35\, 35\, 51)\; font-family: Lato\, Helvetica\, Arial\; font-size: 14px\;">e: ss@deliveringasia.com</span><br />\n<strong style="color: rgb(35\, 35\, 51)\; font-family: Lato\, Helvetica\, Arial\; font-size: 16px\;"><a href="https://us02web.zoom.us/webinar/register/WN_PY2ldegDSfSKhMj7rWmHow">Register&nbsp\;Here</a>!</strong></p>\n
LOCATION:Webinar
UID:e.3314.1975
SEQUENCE:3
DTSTAMP:20260421T194119Z
URL:http://www.connect.amchamthailand.com/events/details/bangkok-get-up-stand-up-critical-insights-for-thai-tourism-and-hotels-1975
END:VEVENT

END:VCALENDAR
