BEGIN:VCALENDAR
VERSION:2.0
PRODID:-//ChamberMaster//Event Calendar 2.0//EN
METHOD:PUBLISH
X-PUBLISHED-TTL:P3D
REFRESH-INTERVAL:P3D
CALSCALE:GREGORIAN
BEGIN:VEVENT
DTSTART:20231215T110000Z
DTEND:20231215T140000Z
X-MICROSOFT-CDO-ALLDAYEVENT:FALSE
SUMMARY:BCCT Multi-Chamber Christmas Connecting Eastern Seaboard
DESCRIPTION:Please be advised that this function is a partner event with an external organizer. The registration link will send you away from the AMCHAM website to the website of the organizer. Please be advised that this event organizer may have different data collection/privacy and event cancellation policies than AMCHAM Thailand.\n\nREGISTER NOW\n\n\n\nBCCT with AMCHAM\, AustCham\, Beluthai\, DanCham\, TFCC\, GTCC\, TICC\, NTCC and SATCC cordially invites you to the last Multi-Chamber Connecting Eastern Seaboard of 2023 on Friday 15th December at Avani Pattaya.\n\n\n\nPayment: \n- Online Payment options are available when confirming your booking (recommended). Online payment when you book is the simplest way to do this.\n\n- Bank transfer is also available to Kasikorn Bank 709-2-36464-4 and email finance@bccthai.com to verify for a receipt.\n\n\n\nPayment & cancellation policy:\n\n\n	Advance payment is required to confirm your registration and if payment not made 24 hours before event\, your place will be passed on to the waiting list. No walk-ins.\n	Cancellations received less than 24 hours (1 day) and no-shows are NOT able to receive neither a refund nor credit.\n	Payment is required at the time of booking. At any other time will incur a higher fee\n\n\nAccommodation: Avani Pattaya is offering special room rates on Friday 15 December - Avani Garden View @THB 3\,900++ (THB 4\,590.30.-net) and Avani Sea View @THB 5\,600++ ( THB 6\,591.20.-net) per room per night with breakfast. RSVP: patchayapa_wo@avanihotels.com
X-ALT-DESC;FMTTYPE=text/html:<p>Please be advised that this function is a partner event with an external organizer. The registration link will send you away from the AMCHAM website to the website of the organizer. Please be advised that this event organizer may have different data collection/privacy and event cancellation policies than AMCHAM Thailand.</p>\n\n<p><a href="https://members.bccthai.com/bcct/asp/eventbook.asp?member=N&amp\;EventID=4110"><span style="font-size:16px\;"><span style="font-family:arial\;"><strong><span style="color:#000080\;">REGISTER NOW</span></strong></span></span></a><br />\n<br />\n<span background-color:="" font-size:="" style="color: rgb(51\, 51\, 51)\; font-family: sans-serif\, Arial\, Verdana\, " trebuchet="">BCCT with AMCHAM\, AustCham\, Beluthai\, DanCham\, TFCC\, GTCC\, TICC\, NTCC and SATCC cordially invites you to the last Multi-Chamber Connecting Eastern Seaboard of 2023 on Friday 15th December at Avani Pattaya.</span><br />\n<br />\n<strong>Payment:&nbsp\;</strong></p>\n- Online Payment&nbsp\;options are available when confirming your booking&nbsp\;(recommended). Online payment when you book is the simplest way to do this.\n\n<p>- Bank transfer is also available to Kasikorn Bank 709-2-36464-4 and email <a href="mailto:finance@bccthai.com">finance@bccthai.com</a> to verify for a receipt.<br />\n<br />\n<strong>Payment &amp\; cancellation policy:</strong></p>\n\n<ul>\n	<li>Advance payment is required to confirm your registration and if payment not made 24 hours before event\, your place will be passed on to the waiting list. No walk-ins.</li>\n	<li>Cancellations received less than 24 hours (1 day) and no-shows are NOT able to receive neither a refund nor credit.</li>\n	<li>Payment is required at the time of booking. At any other time will incur a higher fee</li>\n</ul>\n\n<p><strong>Accommodation:</strong> Avani Pattaya is offering special room rates on Friday 15 December - Avani Garden View @THB 3\,900++ (THB 4\,590.30.-net) and Avani Sea View @THB 5\,600++ ( THB 6\,591.20.-net) per room per night with breakfast. RSVP: <a href="mailto:patchayapa_wo@avanihotels.com">patchayapa_wo@avanihotels.com</a><span style="color:black\;"> </span></p>\n
LOCATION:Avani Pattaya\, Ballroom
UID:e.3314.2720
SEQUENCE:3
DTSTAMP:20260419T150653Z
URL:http://www.connect.amchamthailand.com/events/details/bcct-multi-chamber-christmas-connecting-eastern-seaboard-2720
END:VEVENT

END:VCALENDAR
