BEGIN:VCALENDAR
VERSION:2.0
PRODID:-//ChamberMaster//Event Calendar 2.0//EN
METHOD:PUBLISH
X-PUBLISHED-TTL:P3D
REFRESH-INTERVAL:P3D
CALSCALE:GREGORIAN
BEGIN:VEVENT
DTSTART:20211217T110000Z
DTEND:20211217T140000Z
X-MICROSOFT-CDO-ALLDAYEVENT:FALSE
SUMMARY:BCCT MULTI-CHAMBER EASTERN SEABOARD CHRISTMAS EVENING
DESCRIPTION:REGISTER NOW\n\n\n\nBCCT\, in cooperation with AMCHAM\, AustCham\, BeLuThai\, CanCham\, GTCC\, NTCC\, SATCC & STCC\, cordially invites you to BCCT Multi-Chamber Eastern Seaboard Christmas Evening.
X-ALT-DESC;FMTTYPE=text/html:<p><span style="font-size:14px\;"><a href="https://members.bccthai.com/BCCT/asp/eventbook.asp?EventID=3742&amp\;SponsorID=-1"><span style="font-family:arial\;"><strong><span style="color:#000080\;">REGISTER NOW</span></strong></span></a></span><br />\n<br />\nBCCT\, in cooperation with AMCHAM\, AustCham\, BeLuThai\, CanCham\, GTCC\, NTCC\, SATCC &amp\; STCC\,&nbsp\;cordially invites you to BCCT Multi-Chamber Eastern Seaboard Christmas Evening.<br />\n&nbsp\;</p>\n
LOCATION:Royal Varuna Yacht Club Map
UID:e.3314.2105
SEQUENCE:3
DTSTAMP:20260421T085933Z
URL:http://www.connect.amchamthailand.com/events/details/bcct-multi-chamber-eastern-seaboard-christmas-evening-12-17-2021-2105
END:VEVENT

END:VCALENDAR
