BEGIN:VCALENDAR
VERSION:2.0
PRODID:-//ChamberMaster//Event Calendar 2.0//EN
METHOD:PUBLISH
X-PUBLISHED-TTL:P3D
REFRESH-INTERVAL:P3D
CALSCALE:GREGORIAN
BEGIN:VEVENT
DTSTART:20201218T110000Z
DTEND:20201218T140000Z
X-MICROSOFT-CDO-ALLDAYEVENT:FALSE
SUMMARY:BCCT Multi-Chamber Eastern Seaboard Christmas Evening
DESCRIPTION:REGISTER NOW\n\n\n\nBCCT Multi-Chamber Eastern Seaboard Christmas Evening \n\n*Special thanks to event sponsors Budget/Payless\, Bangkok Hospital Pattaya\, RSM  Edge Worldwide Logistics & Tellus*\n\nBCCT\, in cooperation with AMCHAM\, AustCham\, BeLuThai\, CanCham\, GTCC\, NTCC\, SATCC & STCC\, cordially invites you to BCCT Multi-Chamber Eastern Seaboard Christmas Evening.\n\n\nBooking & payment: follow booking link below or email banthita@bccthai.com\n\nPayment: Pre-payment secures booking. Pre-payment options are available here. No payment on the door. No walk-ins please. Thanks for your co-operation\n\n\n\nMenu: \n\nCarvery: Whole Turkey + Cranberry\; BBQ Ham + Mustard\; Roast Beef + Horseradish\n\nHot Dish: Falaffel + Dips\; Spinach Cream Cheese Roll\; Bacon and sausage chipolata & Spring Rolls\n\nDesserts: Mini Mango Passion Cake\; Mini Chocolate Raspberry\; Mango Sticky Rice\n\nTransport: BCCT offers a transport leaving Bangkok at 1 pm (sharp) to Pattaya and returning the same night after the event. Cost is 500 Baht per person. If you are interested in joining\, please email banthita@bccthai.com
X-ALT-DESC;FMTTYPE=text/html:<p><span style="font-size:16px\;"><span style="font-family:arial\;"><strong><span style="color:#000080\;"><a href="https://members.bccthai.com/BCCT/asp/eventdetail.asp?EventID=3513&amp\;SponsorID=-1">REGISTER NOW</a></span></strong></span></span><br />\n<br />\nBCCT Multi-Chamber Eastern Seaboard Christmas Evening&nbsp\;</p>\n\n<p>*Special thanks to event sponsors&nbsp\;<a href="https://www.budget.co.th/Default.aspx?lang=th">Budget/Payless</a>\,&nbsp\;<a href="https://www.bangkokpattayahospital.com/en">Bangkok Hospital Pattaya</a>\,&nbsp\;<a href="https://www.rsm.global/thailand/">RSM</a>&nbsp\;&nbsp\;<a href="http://www.edgewl.com/">Edge Worldwide Logistics</a>&nbsp\;&amp\;&nbsp\;<a href="http://www.tellus.co.th/">Tellus</a>*</p>\n\n<p>BCCT\, in cooperation with AMCHAM\, AustCham\, BeLuThai\, CanCham\, GTCC\, NTCC\, SATCC &amp\; STCC\,&nbsp\;cordially invites you to BCCT Multi-Chamber Eastern Seaboard Christmas Evening.</p>\n\n<div>\n<p>Booking &amp\; payment:&nbsp\;follow booking link below or email&nbsp\;<a href="mailto:banthita@bccthai.com">banthita@bccthai.com</a></p>\n\n<p>Payment: Pre-payment secures booking. Pre-payment options are available&nbsp\;<a href="https://members.bccthai.com/asp/view_doc.asp?DocCID=3943">here</a>. No payment on the door. No walk-ins please.&nbsp\;Thanks for your co-operation<br />\n<br />\n<strong>Menu:&nbsp\;</strong><br />\nCarvery: Whole Turkey + Cranberry\; BBQ Ham + Mustard\; Roast Beef + Horseradish<br />\nHot Dish: Falaffel + Dips\; Spinach Cream Cheese Roll\; Bacon and sausage chipolata &amp\; Spring Rolls<br />\nDesserts: Mini Mango Passion Cake\; Mini Chocolate Raspberry\; Mango Sticky Rice</p>\n\n<p>Transport: BCCT offers a transport leaving Bangkok at 1&nbsp\;pm (sharp) to Pattaya and returning the same night after the event. Cost is 500 Baht per person.&nbsp\;If you are interested in joining\,&nbsp\;please email&nbsp\;<a href="mailto:banthita@bccthai.com">banthita@bccthai.com</a></p>\n</div>\n\n<p>&nbsp\;</p>\n
LOCATION:Venue: Royal Varuna Yacht Club Map
UID:e.3314.1802
SEQUENCE:3
DTSTAMP:20260422T092455Z
URL:http://www.connect.amchamthailand.com/events/details/bcct-multi-chamber-eastern-seaboard-christmas-evening-1802
END:VEVENT

END:VCALENDAR
