BEGIN:VCALENDAR
VERSION:2.0
PRODID:-//ChamberMaster//Event Calendar 2.0//EN
METHOD:PUBLISH
X-PUBLISHED-TTL:P3D
REFRESH-INTERVAL:P3D
CALSCALE:GREGORIAN
BEGIN:VEVENT
DTSTART:20221216T110000Z
DTEND:20221216T140000Z
X-MICROSOFT-CDO-ALLDAYEVENT:FALSE
SUMMARY:BCCT Multi-Chamber Eastern Seaboard Christmas Networking
DESCRIPTION:Please be advised that this function is a partner event with an external organizer. The registration link will send you away from the AMCHAM website to the website of the organizer.  Please be advised that the organizer may not have the same data protection\, event cancellation policies or Covid-19 safety protocol as AMCHAM Thailand.\n\n\n\nREGISTER NOW\n\nAMCHAM Thailand\, in collaboration with BCCT \, AustCham\, BeLuThai\, CanCham\, GTCC\, NTCC\, SATCC & STCC\, cordially invites you to BCCT Multi-Chamber Eastern Seaboard Christmas Networking.
X-ALT-DESC;FMTTYPE=text/html:<p>Please be advised that this function is a partner event with an external organizer. The registration link will send you away from the AMCHAM website to the website of the organizer.&#8203\; Please be advised that the organizer may not have the same data protection\, event cancellation policies or Covid-19 safety protocol as AMCHAM Thailand.<br />\n<br />\n<strong><a href="https://members.bccthai.com/bcct/asp/eventbook.asp?member=N&amp\;EventID=3876">REGISTER NOW</a></strong></p>\n\n<p>AMCHAM Thailand\, in collaboration with&nbsp\;BCCT \, AustCham\, BeLuThai\, CanCham\, GTCC\, NTCC\, SATCC &amp\; STCC\,&nbsp\;cordially invites you to BCCT Multi-Chamber Eastern Seaboard Christmas Networking.</p>\n
LOCATION:Venue: Royal Varuna Yacht Club
UID:e.3314.2386
SEQUENCE:3
DTSTAMP:20260420T123421Z
URL:http://www.connect.amchamthailand.com/events/details/bcct-multi-chamber-eastern-seaboard-christmas-networking-2386
END:VEVENT

END:VCALENDAR
