BEGIN:VCALENDAR
VERSION:2.0
PRODID:-//ChamberMaster//Event Calendar 2.0//EN
METHOD:PUBLISH
X-PUBLISHED-TTL:P3D
REFRESH-INTERVAL:P3D
CALSCALE:GREGORIAN
BEGIN:VEVENT
DTSTART:20220630T110000Z
DTEND:20220630T140000Z
X-MICROSOFT-CDO-ALLDAYEVENT:FALSE
SUMMARY:BCCT Multi-Chamber Hospitality Technology Evening
DESCRIPTION:Please note that this event is hosted by BCCT and event requirements may differ from AMCHAM. Clicking the link will bring you to their registration page and away from the AMCHAM website.\n\nClick here to register.\n\nThe Hotel Industry is always looking to adopt new technology to enhance the guest experience and uncover efficiencies.\n\nThe first BCCT Hotel Technology will showcase some of the latest innovations in hospitality tech: See a hotel room in VR\, delivery droids\, AI energy saving methods\, contactless ordering systems\, in room tablets and more.\n\nFollowed by a panel discussion featuring Agoda\, Minor Hotels\, Frasers Hospitality and True Digital\, who will tell us how their companies are driving the future of Hotel technology.\n\nStay ahead of the curve and embrace the future at the BCCT Hotel Technology event.\n\nEvent details:\n\nTopic: Where is hotel technology now\, where it is heading in future and what their company is doing to drive this? \n\nSpeakers: \n\nFrasers Hospitality   Anthony Arundell Senior VP Head of Smart City\n\nTrue Digital Group   Thanawat Pringwanich Hospitality Platforms and Digital Transformation\n\nMinor Hotels   Michael Marshall   Chief Commercial Officer\n\nAgoda - Tom van Duin - Country Director\n\n \n\nPayment: \n\n-Online Payment options are available when confirming your booking (recommended). Online payment when you book is the simplest way to do this.\n\n-Bank transfer is also available to Kasikorn bank 709-2-36464-4 and email finance@bccthai.com to verify for a receipt.\n\n \n\n*Pre-registration and pre-payment are required to confirm your booking. No payment on the door. No walk-ins please. Thank you for your co-operation*\n\n \n\n*At registration please show a negative ATK test within 48 hours of arrival. A simple photo of a negative result with something that indicates date/time included will suffice*.
X-ALT-DESC;FMTTYPE=text/html:<p style="box-sizing: content-box\; margin-top: 10px\; margin-bottom: 10px\; padding: 0px 10px\; font-size: 0.9em\; line-height: 1.5\; color: rgb(33\, 37\, 41)\; font-family: Roboto\, sans-serif\, helvetica\;">Please note that this event is hosted by BCCT and event requirements may&nbsp\;differ from AMCHAM. Clicking the link will bring you to their registration page and away from the AMCHAM website.</p>\n\n<p style="box-sizing: content-box\; margin-top: 10px\; margin-bottom: 10px\; padding: 0px 10px\; font-size: 0.9em\; line-height: 1.5\; color: rgb(33\, 37\, 41)\; font-family: Roboto\, sans-serif\, helvetica\;"><strong><span style="font-size:18px\;"><a href="https://members.bccthai.com/bcct/asp/eventdetail.asp?EventID=3983&amp\;SponsorID=-1">Click here to register.</a></span></strong></p>\n\n<p style="box-sizing: content-box\; margin-top: 10px\; margin-bottom: 10px\; padding: 0px 10px\; font-size: 0.9em\; line-height: 1.5\; color: rgb(33\, 37\, 41)\; font-family: Roboto\, sans-serif\, helvetica\;"><span style="box-sizing: content-box\; font-family: verdana\, geneva\; font-size: 10pt\;"><em style="box-sizing: content-box\;">The Hotel Industry is always looking to adopt new technology to enhance the guest experience and uncover efficiencies.</em></span></p>\n\n<p style="box-sizing: content-box\; margin-top: 10px\; margin-bottom: 10px\; padding: 0px 10px\; font-size: 0.9em\; line-height: 1.5\; color: rgb(33\, 37\, 41)\; font-family: Roboto\, sans-serif\, helvetica\;"><span style="box-sizing: content-box\; font-family: verdana\, geneva\; font-size: 10pt\;"><em style="box-sizing: content-box\;">The first BCCT Hotel Technology will showcase some of the latest innovations in hospitality tech:&nbsp\;</em><em style="box-sizing: content-box\;">See a hotel room in VR\, delivery droids\, AI energy saving methods\, contactless ordering systems\, in room tablets and more.</em></span></p>\n\n<p style="box-sizing: content-box\; margin-top: 10px\; margin-bottom: 10px\; padding: 0px 10px\; font-size: 0.9em\; line-height: 1.5\; color: rgb(33\, 37\, 41)\; font-family: Roboto\, sans-serif\, helvetica\;"><span style="box-sizing: content-box\; font-family: verdana\, geneva\; font-size: 10pt\;"><em style="box-sizing: content-box\;">Followed by a panel discussion featuring Agoda\, Minor Hotels\, Frasers Hospitality and True Digital\, who will tell us how their&nbsp\;</em><em style="box-sizing: content-box\;">companies are driving the future of Hotel technology.</em></span></p>\n\n<p style="box-sizing: content-box\; margin-top: 10px\; margin-bottom: 10px\; padding: 0px 10px\; font-size: 0.9em\; line-height: 1.5\; color: rgb(33\, 37\, 41)\; font-family: Roboto\, sans-serif\, helvetica\;"><span style="box-sizing: content-box\; font-family: verdana\, geneva\; font-size: 10pt\;"><em style="box-sizing: content-box\;">Stay ahead of the curve and embrace the future at the BCCT Hotel Technology event.</em></span></p>\n\n<p style="box-sizing: content-box\; margin-top: 10px\; margin-bottom: 10px\; padding: 0px 10px\; font-size: 0.9em\; line-height: 1.5\; color: rgb(33\, 37\, 41)\; font-family: Roboto\, sans-serif\, helvetica\;"><span style="box-sizing: content-box\; font-family: verdana\, geneva\; font-size: 10pt\;"><span style="box-sizing: content-box\; font-weight: bolder\;"><u style="box-sizing: content-box\;">Event details:</u></span></span></p>\n\n<p style="box-sizing: content-box\; margin-top: 10px\; margin-bottom: 10px\; padding: 0px 10px\; font-size: 0.9em\; line-height: 1.5\; color: rgb(33\, 37\, 41)\; font-family: Roboto\, sans-serif\, helvetica\;"><span style="box-sizing: content-box\; font-family: verdana\, geneva\; font-size: 10pt\;"><span style="box-sizing: content-box\; font-weight: bolder\;">Topic</span>: Where is hotel technology now\, where it is heading in future and what their company is doing to drive this?&nbsp\;</span></p>\n\n<p style="box-sizing: content-box\; margin-top: 10px\; margin-bottom: 10px\; padding: 0px 10px\; font-size: 0.9em\; line-height: 1.5\; color: rgb(33\, 37\, 41)\; font-family: Roboto\, sans-serif\, helvetica\;"><span style="box-sizing: content-box\; font-family: verdana\, geneva\; font-size: 10pt\;"><span style="box-sizing: content-box\; font-weight: bolder\;">Speakers</span>:&nbsp\;</span><br style="box-sizing: content-box\;" />\n<span style="box-sizing: content-box\; font-family: verdana\, geneva\; font-size: 10pt\;"><em style="box-sizing: content-box\;">Frasers Hospitality</em>&nbsp\;&ndash\; Anthony Arundell Senior VP Head of Smart City</span><br style="box-sizing: content-box\;" />\n<span style="box-sizing: content-box\; font-family: verdana\, geneva\; font-size: 10pt\;"><em style="box-sizing: content-box\;">True Digital Group</em>&nbsp\;&ndash\; Thanawat Pringwanich Hospitality Platforms and Digital Transformation</span><br style="box-sizing: content-box\;" />\n<span style="box-sizing: content-box\; font-family: verdana\, geneva\; font-size: 10pt\;"><em style="box-sizing: content-box\;">Minor Hotels</em>&nbsp\;&ndash\; Michael Marshall &ndash\; Chief Commercial Officer</span><br style="box-sizing: content-box\;" />\n<span style="box-sizing: content-box\; font-family: verdana\, geneva\; font-size: 10pt\;"><em style="box-sizing: content-box\;">Agoda</em>&nbsp\;- Tom van Duin - Country Director</span></p>\n\n<p style="box-sizing: content-box\; margin-top: 10px\; margin-bottom: 10px\; padding: 0px 10px\; font-size: 0.9em\; line-height: 1.5\; color: rgb(33\, 37\, 41)\; font-family: Roboto\, sans-serif\, helvetica\;">&nbsp\;</p>\n\n<p style="box-sizing: content-box\; margin-top: 10px\; margin-bottom: 10px\; padding: 0px 10px\; font-size: 0.9em\; line-height: 1.5\; color: rgb(33\, 37\, 41)\; font-family: Roboto\, sans-serif\, helvetica\;"><span style="box-sizing: content-box\; color: rgb(33\, 37\, 41)\; font-family: verdana\, geneva\; font-size: 10pt\;"><span style="box-sizing: content-box\; font-weight: bolder\;">Payment</span>:&nbsp\;</span><br style="box-sizing: content-box\; color: rgb(33\, 37\, 41)\; font-family: Roboto\, sans-serif\, helvetica\; font-size: 11.7px\;" />\n<span style="box-sizing: content-box\; color: rgb(33\, 37\, 41)\; font-family: verdana\, geneva\; font-size: 10pt\;">-<span style="box-sizing: content-box\; font-weight: bolder\;">Online Payment</span>&nbsp\;options are available when confirming your booking&nbsp\;<em style="box-sizing: content-box\;">(recommended)</em>. Online payment when you book is the simplest way to do this.</span><br style="box-sizing: content-box\; color: rgb(33\, 37\, 41)\; font-family: Roboto\, sans-serif\, helvetica\; font-size: 11.7px\;" />\n<span style="box-sizing: content-box\; color: rgb(33\, 37\, 41)\; font-family: verdana\, geneva\; font-size: 10pt\;">-<span style="box-sizing: content-box\; font-weight: bolder\;">Bank transfer</span>&nbsp\;is also available to Kasikorn bank 709-2-36464-4 and email&nbsp\;<a href="mailto:finance@bccthai.com" style="box-sizing: content-box\; color: rgb(68\, 136\, 195)\; text-decoration-line: none\; background-color: transparent\; font-weight: 700\;">finance@bccthai.com</a>&nbsp\;to verify for a receipt.</span></p>\n\n<p style="box-sizing: content-box\; margin-top: 10px\; margin-bottom: 10px\; padding: 0px 10px\; font-size: 0.9em\; line-height: 1.5\; color: rgb(33\, 37\, 41)\; font-family: Roboto\, sans-serif\, helvetica\;">&nbsp\;</p>\n\n<p style="box-sizing: content-box\; margin-top: 10px\; margin-bottom: 10px\; padding: 0px 10px\; font-size: 0.9em\; line-height: 1.5\; color: rgb(33\, 37\, 41)\; font-family: Roboto\, sans-serif\, helvetica\;"><span style="color: rgb(0\, 0\, 255)\; font-family: verdana\, geneva\; font-size: 13.3333px\;">*Pre-registration and pre-payment are required to confirm your booking. No payment on the door. No walk-ins please. Thank you for your co-operation*</span></p>\n\n<p style="box-sizing: content-box\; margin-top: 10px\; margin-bottom: 10px\; padding: 0px 10px\; font-size: 0.9em\; line-height: 1.5\; color: rgb(33\, 37\, 41)\; font-family: Roboto\, sans-serif\, helvetica\;">&nbsp\;</p>\n\n<p style="box-sizing: content-box\; margin-top: 10px\; margin-bottom: 10px\; padding: 0px 10px\; font-size: 0.9em\; line-height: 1.5\; color: rgb(33\, 37\, 41)\; font-family: Roboto\, sans-serif\, helvetica\;"><span style="color: rgb(255\, 0\, 0)\; font-family: verdana\, geneva\; font-size: 13.3333px\;">*At registration please show a negative ATK test within 48 hours of arrival</span><em style="box-sizing: content-box\; color: rgb(255\, 0\, 0)\; font-family: verdana\, geneva\; font-size: 13.3333px\;">.</em><span style="color: rgb(255\, 0\, 0)\; font-family: verdana\, geneva\; font-size: 13.3333px\;">&nbsp\;A simple photo of a negative result with something that indicates date/time included will suffice*.</span></p>\n
LOCATION:Venue: Lancaster Bangkok on Petchaburi road (MRT: Petchaburi station exit 1)
UID:e.3314.2232
SEQUENCE:3
DTSTAMP:20260420T215122Z
URL:http://www.connect.amchamthailand.com/events/details/bcct-multi-chamber-hospitality-technology-evening-2232
END:VEVENT

END:VCALENDAR
