BEGIN:VCALENDAR
VERSION:2.0
PRODID:-//ChamberMaster//Event Calendar 2.0//EN
METHOD:PUBLISH
X-PUBLISHED-TTL:P3D
REFRESH-INTERVAL:P3D
CALSCALE:GREGORIAN
BEGIN:VEVENT
DTSTART:20220523T070000Z
DTEND:20220523T080000Z
X-MICROSOFT-CDO-ALLDAYEVENT:FALSE
SUMMARY:Behind the Scenes at U.S. Embassy Bangkok
DESCRIPTION:AMCHAM is delighted to welcome our members to learn more about the American Citizens Services (ACS) Unit at the U.S. Embassy Bangkok. Please join Consul General Scott Cecil and members of his team as they share the range of work that ACS performs on behalf of the U.S. citizens on a daily basis. In addition\, we are also pleased to welcome Ans Lee from the Social Security Administration's Federal Benefits Unit (FBU) in Manila\, which oversees administration of Social Security benefits to the U.S. citizens throughout the Asia Pacific region.\n\nThis event will be held in a townhall video conference format. Presentations will be followed by an open Q&A session where members can ask their questions directly to the speakers.\n\n\n\nAbout the Speakers:\n\nScott Cecil\, Consul General and Country Consular Coordinator\, U.S. Embassy Bangkok.\n\nScott arrived in Bangkok in September 2020. His previous overseas tours included serving as Minister-Counselor for Consular Affairs in Berlin\, Consular Chief in Monterrey\, American Citizens Services (ACS) Chief in London\, Deputy Director of International Narcotics and Law Enforcement in Baghdad\, ACS Chief in Mexico City\, Consular Chief in Matamoros\, Political Officer in Berlin\, and Consular Officer in Manila. Domestic tours included Deputy Director of Consular Training at the Foreign Service Institute\, Field Liaison Officer in Consular Affairs' Visa Office\, and Watch Officer at the Nuclear Risk Reduction Center. Prior to joining the State Department\, he worked for two years as a policy analyst in the Bureau of Export Controls in the Department of Commerce. Originally from Shawnee\, Oklahoma\, Scott received an M.S. in Foreign Service from Georgetown University in 1988\, an M.A. in German from the University of Oklahoma in 1986\, and a B.A. in Letters from the University of Oklahoma in 1981. He speaks German and Spanish.\n\nAns Hedwig C. Lee\, Social Security Administration\, Federal Benefits Unit Manila\n\nAns Lee began her career with the Social Security Administration's Federal Benefits Unit (FBU) in Manila in 2004. Prior to her current position\, she was a Claims Representative for 13 years and was part of the team that launched operations and mentored staff in FBU Tokyo.
X-ALT-DESC;FMTTYPE=text/html:<p>AMCHAM is delighted to welcome our members to learn more about the American Citizens Services (ACS) Unit at the U.S. Embassy Bangkok. Please join Consul General Scott Cecil and members of his team as they share the range of work that ACS performs on behalf of the U.S. citizens on a daily basis.&nbsp\;In addition\, we are also pleased to welcome Ans Lee from the Social Security Administration&rsquo\;s Federal Benefits Unit (FBU) in Manila\, which oversees administration of Social Security benefits to the U.S. citizens throughout the Asia Pacific region.</p>\n\n<p>This event will be held in a townhall video conference format. Presentations will be followed by an open Q&amp\;A session where members can ask their questions directly to&nbsp\;the speakers.<br />\n<br />\n<strong>About the Speakers:</strong></p>\n\n<p><strong>Scott Cecil</strong>\,&nbsp\;Consul General and Country Consular Coordinator\,&nbsp\;U.S. Embassy Bangkok.<o:p></o:p></p>\n\n<p>Scott arrived in Bangkok in September 2020. His previous overseas tours included serving as Minister-Counselor for Consular Affairs in Berlin\, Consular Chief in Monterrey\, American Citizens Services (ACS) Chief in London\, Deputy Director of International Narcotics and Law Enforcement in Baghdad\, ACS Chief in Mexico City\, Consular Chief in Matamoros\, Political Officer in Berlin\, and Consular Officer in Manila. Domestic tours included Deputy Director of Consular Training at the Foreign Service Institute\, Field Liaison Officer in Consular Affairs&rsquo\; Visa Office\, and Watch Officer at the Nuclear Risk Reduction Center. Prior to joining the State Department\, he worked for two years as a policy analyst in the Bureau of Export Controls in the Department of Commerce. Originally from Shawnee\, Oklahoma\, Scott received an M.S. in Foreign Service from Georgetown University in 1988\, an M.A. in German from the University of Oklahoma in 1986\, and a B.A. in Letters from the University of Oklahoma in 1981. He speaks German and Spanish.</p>\n\n<p><strong>Ans Hedwig C. Lee\,&nbsp\;</strong>Social Security Administration\,&nbsp\;Federal Benefits Unit Manila<o:p></o:p></p>\n\n<p>Ans Lee began her career with the Social Security Administration&rsquo\;s Federal Benefits Unit (FBU) in Manila in 2004. Prior to her current position\, she was a Claims Representative for 13 years and was part of the team that launched operations and mentored staff in FBU Tokyo.<o:p></o:p></p>\n\n<p><o:p></o:p></p>\n
LOCATION:Video Conference
UID:e.3314.2212
SEQUENCE:3
DTSTAMP:20260420T235741Z
URL:http://www.connect.amchamthailand.com/events/details/behind-the-scenes-at-u-s-embassy-bangkok-2212
END:VEVENT

END:VCALENDAR
