BEGIN:VCALENDAR
VERSION:2.0
PRODID:-//ChamberMaster//Event Calendar 2.0//EN
METHOD:PUBLISH
X-PUBLISHED-TTL:P3D
REFRESH-INTERVAL:P3D
CALSCALE:GREGORIAN
BEGIN:VEVENT
DTSTART:20181116T113000Z
DTEND:20181116T140000Z
X-MICROSOFT-CDO-ALLDAYEVENT:FALSE
SUMMARY:Benelux 60th Anniversary Multi Chambers ESB Networking hosted by NTCC/BeluThai
DESCRIPTION:Eastern Seaboard Networking - "Benelux 60th Anniversary Celebration"\n\n \n\nThe NTCC and Beluthai\, with support from AmCham\, AustCham\, BCCT\, CanCham\, GTCC\, MEXCHAM\, NZTCC\, STCC and SATCC\, cordially invite you to Eastern Seaboard Networking - "Benelux 60th Anniversary Celebration" at MYTT Beach Hotel Pattaya.\n\n\n\nTogether with the ambassadors/representatives of Benelux\, we will be celebrating 60 years of successful economic collaboration between Belgium\, The Netherlands and Luxembourg. There will be a generous array of food and beverages from 18.30 - 21.00\, at Vertical Ballroom\, the biggest function room in Pattaya. \n\n\n\nAccomodation:\n\nMYTT Beach Hotel\, Pattaya is offering a special room rate for chambers' members and guests detail as following:\n\n  Deluxe Urban THB 3\,500 net per room per night inclusive of breakfast for 2 persons.\n\n  Deluxe Ocean THB 4\,000 net per room per night inclusive of breakfast for 2 persons.\n\n  Premier Ocean THB 5\,000 net per room per night inclusive of breakfast for 2 persons with access to The Living Club Lounge\n\nRobust and sophisticated\, Vertical Ballroom is open to gatherings in the thousands\, and equipped from floor to ceiling with the finest technology for an endless range of potential. Towering ceilings and massive plate glass windows provide an open feel that will leave you in awe over the shear architectural feat.\n\n\n\nFor reservation please contact Khun Rachan Buathin\, Sales Manager via email: rachan@mytthotel.com Tel +66 (0) 8 8538 7098.
X-ALT-DESC;FMTTYPE=text/html:<p><span style="font-size:14px\;"><span style="font-family:arial\;"><strong><span style="box-sizing: border-box\; margin: 0px\; padding: 0px\; color: rgb(0\, 51\, 102)\;"><span style="box-sizing: border-box\; margin: 0px\; padding: 0px\;">Eastern Seaboard Networking - &quot\;Benelux 60th Anniversary Celebration&quot\;</span></span></strong></span></span><br style="box-sizing: border-box\; margin: 0px\; padding: 0px\;" />\n&nbsp\;</p>\n\n<p style="box-sizing: border-box\; margin: 5px 0px\; padding: 0px\; font-size: 16px\; font-family: &quot\;Open Sans&quot\;\, Arial\; text-shadow: none\; line-height: 22.72px\;"><span style="font-size:14px\;"><span style="font-family:arial\;">The NTCC and Beluthai\, with support from AmCham\, AustCham\, BCCT\, CanCham\, GTCC\, MEXCHAM\, NZTCC\, STCC and SATCC\, cordially invite you to Eastern Seaboard Networking - &quot\;Benelux 60th Anniversary Celebration&quot\; at MYTT Beach Hotel Pattaya.<br style="box-sizing: border-box\; margin: 0px\; padding: 0px\;" />\n<br style="box-sizing: border-box\; margin: 0px\; padding: 0px\;" />\nTogether with the ambassadors/representatives of Benelux\, we will be&nbsp\;celebrating&nbsp\;60 years of successful economic collaboration between Belgium\, The Netherlands and Luxembourg. There will be a generous array of food and beverages from 18.30 - 21.00\,&nbsp\;at Vertical Ballroom\, the biggest function room in Pattaya.&nbsp\;</span></span><br style="box-sizing: border-box\; margin: 0px\; padding: 0px\;" />\n<br style="box-sizing: border-box\; margin: 0px\; padding: 0px\;" />\n<strong style="font-family: arial\; font-size: 14px\; box-sizing: border-box\; margin: 0px\; padding: 0px\;">Accomodation:</strong></p>\n\n<p style="box-sizing: border-box\; margin: 5px 0px\; padding: 0px\; font-size: 16px\; font-family: &quot\;Open Sans&quot\;\, Arial\; text-shadow: none\; line-height: 22.72px\;"><span style="font-size:14px\;"><span style="font-family:arial\;">MYTT Beach Hotel\, Pattaya is offering a special room rate for chambers&#39\; members and guests detail as following:</span></span></p>\n\n<p style="box-sizing: border-box\; margin: 5px 0px\; padding: 0px\; font-size: 16px\; font-family: &quot\;Open Sans&quot\;\, Arial\; text-shadow: none\; line-height: 22.72px\;"><span style="font-size:14px\;"><span style="font-family:arial\;">&#9679\; Deluxe Urban THB 3\,500 net per room per night inclusive of breakfast for 2 persons.<br style="box-sizing: border-box\; margin: 0px\; padding: 0px\;" />\n&#9679\; Deluxe Ocean THB 4\,000 net per room per night inclusive of breakfast for 2 persons.<br style="box-sizing: border-box\; margin: 0px\; padding: 0px\;" />\n&#9679\; Premier Ocean THB 5\,000 net per room per night inclusive of breakfast for 2 persons with access to The Living Club Lounge</span></span></p>\n\n<p style="box-sizing: border-box\; margin: 5px 0px\; padding: 0px\; font-size: 16px\; font-family: &quot\;Open Sans&quot\;\, Arial\; text-shadow: none\; line-height: 22.72px\;"><span style="font-family: arial\; font-size: 14px\;">Robust and sophisticated\, Vertical Ballroom is open to gatherings in the thousands\, and equipped from floor to ceiling with the finest technology for an endless range of potential. Towering ceilings and massive plate glass windows provide an open feel that will leave you in awe over the shear architectural feat.</span><br />\n<br />\n<span style="font-size:14px\;"><span style="font-family:arial\;">For reservation please contact Khun Rachan Buathin\, Sales Manager via email:&nbsp\;<a href="mailto:rachan@mytthotel.com" style="box-sizing: border-box\; margin: 0px\; padding: 0px\; background: transparent\; color: rgb(66\, 139\, 202)\; text-decoration-line: none\; font-family: Lato\, Arial\; text-shadow: none\;">rachan@mytthotel.com</a>&nbsp\;Tel +66 (0) 8 8538 7098.</span></span></p>\n
LOCATION:Location: Vertical Ballroom\, MYTT Beach Hotel Pattaya
UID:e.3314.59
SEQUENCE:3
DTSTAMP:20260424T030404Z
URL:http://www.connect.amchamthailand.com/events/details/benelux-60th-anniversary-multi-chambers-esb-networking-hosted-by-ntcc-beluthai-59
END:VEVENT

END:VCALENDAR
