BEGIN:VCALENDAR
VERSION:2.0
PRODID:-//ChamberMaster//Event Calendar 2.0//EN
METHOD:PUBLISH
X-PUBLISHED-TTL:P3D
REFRESH-INTERVAL:P3D
CALSCALE:GREGORIAN
BEGIN:VEVENT
DTSTART:20211201T050000Z
DTEND:20211201T070000Z
X-MICROSOFT-CDO-ALLDAYEVENT:FALSE
SUMMARY:Board of Governors Appreciation Luncheon
DESCRIPTION:By Invitation Only
X-ALT-DESC;FMTTYPE=text/html:By Invitation Only
LOCATION:Plaza Athenee Hotel
UID:e.3314.2033
SEQUENCE:3
DTSTAMP:20260421T091737Z
URL:http://www.connect.amchamthailand.com/events/details/board-of-governors-appreciation-luncheon-2033
END:VEVENT

END:VCALENDAR
