BEGIN:VCALENDAR
VERSION:2.0
PRODID:-//ChamberMaster//Event Calendar 2.0//EN
METHOD:PUBLISH
X-PUBLISHED-TTL:P3D
REFRESH-INTERVAL:P3D
CALSCALE:GREGORIAN
BEGIN:VEVENT
DTSTART:20210830T033000Z
DTEND:20210830T040000Z
X-MICROSOFT-CDO-ALLDAYEVENT:FALSE
SUMMARY:Board of Governors Meeting
DESCRIPTION:Board of Governors adhoc meeting - by invitation only.
X-ALT-DESC;FMTTYPE=text/html:Board of Governors adhoc meeting - by invitation only.&nbsp\;&nbsp\;<br />\n<br />\n&nbsp\;
LOCATION:Video Conference
UID:e.3314.1971
SEQUENCE:3
DTSTAMP:20260421T180219Z
URL:http://www.connect.amchamthailand.com/events/details/board-of-governors-meeting-1971
END:VEVENT

END:VCALENDAR
