BEGIN:VCALENDAR
VERSION:2.0
PRODID:-//ChamberMaster//Event Calendar 2.0//EN
METHOD:PUBLISH
X-PUBLISHED-TTL:P3D
REFRESH-INTERVAL:P3D
CALSCALE:GREGORIAN
BEGIN:VEVENT
DTSTART:20190326T003000Z
DTEND:20190326T020000Z
X-MICROSOFT-CDO-ALLDAYEVENT:FALSE
SUMMARY:Business Economics Committee: Developments in the Thai Property Market
DESCRIPTION:Please join the AMCHAM Business Economics Committee for our popular annual presentation on 'Developments in the Thai Property Market' with guest speaker James Pitchon. In addition to presenting some of the latest data on commercial and residential property in Bangkok and surrounding property markets\, James offers insightful commentary on economic and social developments propelling property trends.\n\n\n\nNow an "independent property observer"\, whose social media updates are followed avidly by industry professionals\, James was previously managing director of CBRE for twenty-seven years\, during which time he was responsible for servicing property requirements of multi-national corporations as well as the coordination of over 1\,000 multinational corporation property transactions in Thailand. James originally joined CBRE in 1987 in Hong Kong\, and established the company's Beijing office in the People's Republic of China\, where he was responsible for leasing the China World Trade Centre\, before joining the Bangkok office in 1990. He is a member of the Royal Institution of Chartered Surveyors (MRICS) and earned a Bachelor of Science (Honors) in Valuation and Estate Management from Bristol Polytechnic\, UK\, 1985.
X-ALT-DESC;FMTTYPE=text/html:<div>Please join the AMCHAM Business Economics Committee for our popular annual presentation on&nbsp\;&#39\;Developments in the Thai Property Market&#39\;&nbsp\;with guest speaker&nbsp\;James Pitchon.&nbsp\;In addition to presenting some of the latest data on commercial and residential property in Bangkok and surrounding property markets\, James&nbsp\;offers insightful commentary on economic and social developments propelling property trends.<br />\n<br />\nNow an &ldquo\;independent property observer&rdquo\;\, whose social media updates are followed avidly by industry professionals\, James was previously managing director of CBRE for twenty-seven years\, during which time he was responsible for servicing property requirements of multi-national corporations as well as the coordination of over 1\,000 multinational corporation property transactions in Thailand. James originally joined CBRE in 1987 in Hong Kong\, and established the company&#39\;s Beijing office in the People&#39\;s Republic of China\, where he was responsible for leasing the China World Trade Centre\,&nbsp\;before joining the Bangkok office in 1990. He is a member of the Royal Institution of Chartered Surveyors (MRICS) and earned a Bachelor of Science (Honors) in Valuation and Estate Management from Bristol Polytechnic\, UK\, 1985.</div>\n
LOCATION:AMCHAM Office\, Citi Boardroom Nearest BTS: Ploenchit
UID:e.3314.255
SEQUENCE:3
DTSTAMP:20260423T221805Z
URL:http://www.connect.amchamthailand.com/events/details/business-economics-committee-developments-in-the-thai-property-market-255
END:VEVENT

END:VCALENDAR
