BEGIN:VCALENDAR
VERSION:2.0
PRODID:-//ChamberMaster//Event Calendar 2.0//EN
METHOD:PUBLISH
X-PUBLISHED-TTL:P3D
REFRESH-INTERVAL:P3D
CALSCALE:GREGORIAN
BEGIN:VEVENT
DTSTART:20200128T003000Z
DTEND:20200128T020000Z
X-MICROSOFT-CDO-ALLDAYEVENT:FALSE
SUMMARY:Business Economics Committee: Developments in the Thai Property Market
DESCRIPTION:Please join the AMCHAM Business Economics Committee for our popular annual presentation on 'Developments in the Thai Property Market' with guest speaker James Pitchon. In addition to presenting some of the latest data on commercial and residential property in Bangkok and surrounding property markets\, James offers insightful commentary on economic and social developments propelling property trends.\n\n\n\nOn LinkedIn\, James calls himself an "amateur property observer"\, but his social media updates are still followed avidly by industry professionals\, James was previously an Executive Director of CBRE Thailand for 29 years\, during which time he held a wide variety of roles including servicing the property requirements of multinational corporations\, research\, consulting\, capital transactions and property management. James originally joined CBRE in 1987 in Hong Kong\, and then established the company's Beijing office in the People's Republic of China\, where he was responsible for leasing the China World Trade Centre. He joined the Bangkok office in 1990 and was also a founding  partner of CBRE in Vietnam and Cambodia . He is a member of the Royal Institution of Chartered Surveyors (MRICS) and earned a Bachelor of Science (Honours) in Valuation and Estate Management from Bristol Polytechnic\, UK\, 1985.
X-ALT-DESC;FMTTYPE=text/html:Please join the AMCHAM Business Economics Committee for our popular annual presentation on&nbsp\;&#39\;Developments in the Thai Property Market&#39\;&nbsp\;with guest speaker&nbsp\;James Pitchon.&nbsp\;In addition to presenting some of the latest data&nbsp\;on commercial and residential property in Bangkok and surrounding property markets\, James&nbsp\;offers insightful commentary on economic and social developments propelling property trends.<br />\n<br />\nOn LinkedIn\, James calls himself an &quot\;amateur property observer&quot\;\, but his social media updates are still followed avidly by industry professionals\, James was previously an Executive Director of CBRE Thailand for 29 years\, during which time he held a wide variety of roles including servicing the property requirements of multinational corporations\, research\, consulting\, capital transactions and property management. James originally joined CBRE in 1987 in Hong Kong\, and then established the company&#39\;s Beijing office in the People&#39\;s Republic of China\, where he was responsible for leasing the China World Trade Centre. He joined the Bangkok office in 1990 and was also a founding &nbsp\;partner of CBRE in Vietnam and Cambodia . He is a member of the Royal Institution of Chartered Surveyors (MRICS) and earned a Bachelor of Science (Honours) in Valuation and Estate Management from Bristol Polytechnic\, UK\, 1985.<br />\n&nbsp\;
LOCATION:AMCHAM Office\, Citi Boardroom Nearest BTS: Ploenchit
UID:e.3314.478
SEQUENCE:3
DTSTAMP:20260423T054901Z
URL:http://www.connect.amchamthailand.com/events/details/business-economics-committee-developments-in-the-thai-property-market-478
END:VEVENT

END:VCALENDAR
