BEGIN:VCALENDAR
VERSION:2.0
PRODID:-//ChamberMaster//Event Calendar 2.0//EN
METHOD:PUBLISH
X-PUBLISHED-TTL:P3D
REFRESH-INTERVAL:P3D
CALSCALE:GREGORIAN
BEGIN:VEVENT
DTSTART:20190926T003000Z
DTEND:20190926T020000Z
X-MICROSOFT-CDO-ALLDAYEVENT:FALSE
SUMMARY:Business Economics Committee: Impact of US-China Trade Tension on the ASEAN and Thai Economic Outlook
DESCRIPTION:Please join members of the Business Economics Committee to hear a briefing by Nalin Chutchotitham\, Chief Economist for Thailand and Philippines\, as she discusses the impact of the U.S. - China trade tensions on both the Thai and global economic outlook.\n\n\n\nDrawing on Citibank's research and data\,  Nalin will present findings on the effects of the trade tension on ASEAN economies\, in terms of supply chain\, trade diversion\, and relocation. Within this context\, she will then look at Thailand's economic expectations and forecasts.\n\n\n\nAbout the Speaker\n\nNalin Chutchotitham is Chief Economist for Thailand and Philippines\, Citi\, based in Bangkok. Prior to joining Citi in June 2017\, Nalin covered the Thai economy at both HSBC and Kasikornbank for over 8 years. She also served as an economist at the Bank of Thailand from 2006-2007. Nalin received her M.A. degree in Economics from Duke University\, and her Bachelor's degree in Economics from Chulalongkorn University.
X-ALT-DESC;FMTTYPE=text/html:Please join members of the Business Economics Committee to hear a briefing by Nalin Chutchotitham\, Chief Economist for Thailand and Philippines\, as she discusses the impact of the U.S. - China trade tensions on both the Thai and global economic outlook.<br />\n<br />\nDrawing on Citibank&#39\;s research and data\,&nbsp\; Nalin will present findings on the effects of the trade tension on ASEAN economies\, in terms of supply chain\, trade diversion\, and relocation. Within this context\, she will then look at Thailand&#39\;s economic expectations and forecasts.<br />\n<br />\n<strong>About the Speaker</strong><br />\nNalin Chutchotitham is Chief Economist for Thailand and Philippines\, Citi\, based in Bangkok. Prior to joining Citi in June 2017\, Nalin covered the Thai economy at both HSBC and Kasikornbank for over 8 years. She also served as an economist at the Bank of Thailand from 2006-2007. Nalin received her M.A. degree in Economics from Duke University\, and her Bachelor&rsquo\;s degree in Economics from Chulalongkorn University.<br />\n&nbsp\;
LOCATION:AMCHAM Office\, Citi Boardroom Nearest BTS: Ploenchit
UID:e.3314.393
SEQUENCE:3
DTSTAMP:20260423T110236Z
URL:http://www.connect.amchamthailand.com/events/details/business-economics-committee-impact-of-us-china-trade-tension-on-the-asean-and-thai-economic-outlook-393
END:VEVENT

END:VCALENDAR
