BEGIN:VCALENDAR
VERSION:2.0
PRODID:-//ChamberMaster//Event Calendar 2.0//EN
METHOD:PUBLISH
X-PUBLISHED-TTL:P3D
REFRESH-INTERVAL:P3D
CALSCALE:GREGORIAN
BEGIN:VEVENT
DTSTART:20200225T013000Z
DTEND:20200225T030000Z
X-MICROSOFT-CDO-ALLDAYEVENT:FALSE
SUMMARY:Business Economics Committee: Instant Payments
DESCRIPTION:Real-time payments are here and will fuel emerging business models. Are you ready for the disruption?\n\n\n\nInstant payments as emerging solutions for driving business growth can be leveraged by companies to grow their business and facilitate sales development while enhancing customer experience and building loyalty. A presentation from Citi on how Instant payments can help facilitate better connectivity with a company's customers and ecosystem/fulfillment partners.\n\n\n\nAbout the Speaker: Nattanan Sihanatkathakul (Ann)\, Payments and Receivables Market Manager for Citi Thailand\, leads the commercialization strategy across all payments products including the newly launched Instant Payment capability. Ann also leads the client & regulatory engagements representing Citi Thailand in various payment system forums led by the Bank of Thailand and other related Associations.
X-ALT-DESC;FMTTYPE=text/html:Real-time payments are here and will fuel emerging business models. Are you ready for the disruption?<br />\n<br />\nInstant payments as emerging solutions for driving business growth can be leveraged by companies to grow their business and facilitate sales development while enhancing customer experience and building loyalty. A presentation from Citi on how Instant payments can help facilitate better connectivity with a company&#39\;s customers and ecosystem/fulfillment partners.<br />\n<br />\n<strong>About the Speaker:</strong> Nattanan Sihanatkathakul (Ann)\, Payments and Receivables Market Manager for Citi Thailand\, leads the commercialization strategy across all payments products including the newly launched Instant Payment capability. Ann also leads the client &amp\; regulatory engagements representing Citi Thailand in various payment system forums led by the Bank of Thailand and other related Associations.<br />\n&nbsp\;
LOCATION:AMCHAM Office\, Citi Boardroom Nearest BTS: Ploenchit
UID:e.3314.1520
SEQUENCE:3
DTSTAMP:20260423T040010Z
URL:http://www.connect.amchamthailand.com/events/details/business-economics-committee-instant-payments-1520
END:VEVENT

END:VCALENDAR
