BEGIN:VCALENDAR
VERSION:2.0
PRODID:-//ChamberMaster//Event Calendar 2.0//EN
METHOD:PUBLISH
X-PUBLISHED-TTL:P3D
REFRESH-INTERVAL:P3D
CALSCALE:GREGORIAN
BEGIN:VEVENT
DTSTART:20200303T060000Z
DTEND:20200303T073000Z
X-MICROSOFT-CDO-ALLDAYEVENT:FALSE
SUMMARY:C-Suite Roundtable: Business Considerations for COVID-19
DESCRIPTION:What is your company doing to prepare for COVID-19? In this rapidly moving situation\, companies are working overtime to understand potential impacts\, ensure employee health & safety\, and be ready to adapt operations for a wide range of potential scenarios.\n\n \n\nAMCHAM would like to invite you to join an open knowledge-sharing session with fellow member CEOs\, Managing Directors and Country Heads\, where you can exchange findings and learn from each other about how to confront some of the shared challenges we are facing.\n\n\n\nParticipants must be C-Suite level or Country Head of a large corporation. Only one representative per company\, total attendance will be capped at 14.\n\n\n\nIf you are the owner or managing director of a small business (50 employees or fewer) AMCHAM is also organizing a separate knowledge-sharing session as small businesses face different operational challenges from large multinational corporations - for our Small Business CEO Roundtable\, please see more information and register here.
X-ALT-DESC;FMTTYPE=text/html:What is your company doing to prepare for COVID-19? In this rapidly moving situation\, companies are working overtime to understand potential impacts\, ensure employee health &amp\; safety\, and be ready to adapt operations for a wide range of potential scenarios.<br />\n&nbsp\;<br />\nAMCHAM would like to invite you to join an open knowledge-sharing session with fellow member CEOs\, Managing Directors and Country Heads\, where you can exchange findings and learn from each other about how to confront some of the shared challenges we are facing.<br />\n<br />\n<strong>Participants must be C-Suite level or Country Head of a large corporation.&nbsp\;Only one representative per company\, total attendance will be capped at 14.</strong><br />\n<br />\nIf you are the owner or managing director of a small business (50 employees or fewer) AMCHAM is also organizing a separate knowledge-sharing session as small businesses face different operational challenges from large multinational corporations - for our <strong>Small Business CEO Roundtable</strong>\, please see <a href="https://connect.amchamthailand.com/events/details/small-business-ceo-roundtable-business-considerations-for-covid-19-1550">more information and register here.</a>
LOCATION:AMCHAM Office\, Citi Boardroom Nearest BTS: Ploenchit
UID:e.3314.1549
SEQUENCE:3
DTSTAMP:20260423T001324Z
URL:http://www.connect.amchamthailand.com/events/details/c-suite-roundtable-business-considerations-for-covid-19-1549
END:VEVENT

END:VCALENDAR
