BEGIN:VCALENDAR
VERSION:2.0
PRODID:-//ChamberMaster//Event Calendar 2.0//EN
METHOD:PUBLISH
X-PUBLISHED-TTL:P3D
REFRESH-INTERVAL:P3D
CALSCALE:GREGORIAN
BEGIN:VEVENT
DTSTART:20200312T093000Z
DTEND:20200312T143000Z
X-MICROSOFT-CDO-ALLDAYEVENT:FALSE
SUMMARY:Chiang Mai Connect by NTCC: Heritage & Sustainable Tourism\, Talk & Networking
DESCRIPTION:REGISTER HERE\n\n\n\nWhat is it that makes Chiang Mai unique as the city of creativity\, culture\, and heritage\; the melting pot of tourism for decades? With recent talks on the changing facets of the tourism industry\; the effects of mass tourism\, challenges on preservation of several heritage sites\, to the city's pending status on being a UNESCO Heritage City - it is time to open up the conversation for re-alignment of priorities for the city and lay the groundwork towards 'sustainable tourism.'\n\nSustainable tourism and the preservation of the city's cultural heritage both go hand-in-hand. But one cannot achieve this alone - there are several stakeholders in the mix\; residents\, businesses (both tourism and non-tourism)\, local authorities\, local and international tourism companies alike. Together\, we are all part of Chiang Mai's sustainable future. \n\n \n\nIf you're curious about how businesses\, entrepreneurs\, and everyone in the mix can join hands in making Chiang Mai a liveable 'tourism' destination\, come join the discussion!  \n\n \n\n  Find out how entrepreneurs can support the cultural/heritage ecosystem in Chiang Mai\n\n  Share ideas on how the UNESCO Heritage City and similar schemes can bring together different stakeholders to work towards a more sustainable approach for city development \n\n  Connect with entrepreneurs & professionals from wide-ranging industries in the North - linking business groups from the international and local chambers of commerce\, the Federation of Thai Industries\, to the startup community\n\n\n\nOur Speakers\n\n \n\n\n	Richard Engelhardt\n\n	former Regional Advisor & World Heritage Mentor\n\n	UNESCO\n	Frans Betgem\n\n	General Manager\n\n	Green Trails\n	Manaswat (Kim) Chutima\n\n	Assistant Managing Director\n\n	Old Chiangmai Cultural Center\n	Sanon Wangsrangboon\n\n	Co-Founder\n\n	Trawell/ SATARANA/ Once Again Hoste\n	Anne Arrowsmith\n\n	General Manager\n\n	137 Pillars House Chiang Mai\n\n\nCome connect on Thursday 12th March\, 16.30 hrs onwards \n\n \n\nThis is event is supported by Green Trails and Old Chiangmai Cultural Center.
X-ALT-DESC;FMTTYPE=text/html:<p><a href="https://www.eventbank.com/event/20638/register"><strong><u>REGISTER HERE</u></strong></a><br />\n<br />\nWhat is it that makes Chiang Mai unique as the city of creativity\, culture\, and heritage\; the melting pot of tourism for decades? With recent talks on the changing facets of the tourism industry\; the effects of mass tourism\, challenges on preservation of several heritage sites\, to the city&#39\;s pending status on being a UNESCO Heritage City - it is time to open up the conversation for re-alignment of priorities for the city and lay the groundwork towards &#39\;sustainable tourism.&#39\;</p>\n\n<div>Sustainable tourism and the preservation of the city&#39\;s cultural heritage both go hand-in-hand. But one cannot achieve this alone - there are several stakeholders in the mix\; residents\, businesses (both tourism and non-tourism)\, local authorities\, local and international tourism companies alike. Together\, we are all part of Chiang Mai&#39\;s sustainable future.&nbsp\;<br />\n&nbsp\;</div>\n\n<div>If you&#39\;re curious about how businesses\, entrepreneurs\, and everyone in the mix can join hands in making Chiang Mai a liveable &#39\;tourism&#39\; destination\, come join the discussion!&nbsp\;&nbsp\;<br />\n&nbsp\;</div>\n\n<div>&bull\; Find out how entrepreneurs can support the cultural/heritage ecosystem in Chiang Mai</div>\n\n<div>&bull\; Share ideas on how the UNESCO Heritage City and similar schemes can bring together different stakeholders to work towards a more sustainable approach for city development&nbsp\;</div>\n\n<div>&bull\; Connect with entrepreneurs &amp\; professionals from wide-ranging industries in the North - linking business groups from the international and local chambers of commerce\, the Federation of Thai Industries\, to the startup community<br />\n<br />\n<strong>Our Speakers</strong><br />\n&nbsp\;</div>\n\n<ul>\n	<li>Richard Engelhardt<br />\n	former Regional Advisor &amp\; World Heritage Mentor<br />\n	UNESCO</li>\n	<li>Frans Betgem<br />\n	General Manager<br />\n	Green Trails</li>\n	<li>Manaswat (Kim) Chutima<br />\n	Assistant Managing Director<br />\n	Old Chiangmai Cultural Center</li>\n	<li>Sanon Wangsrangboon<br />\n	Co-Founder<br />\n	Trawell/ SATARANA/ Once Again Hoste</li>\n	<li>Anne Arrowsmith<br />\n	General Manager<br />\n	137 Pillars House Chiang Mai</li>\n</ul>\n\n<div>Come connect on Thursday 12th March\, 16.30 hrs onwards&nbsp\;<br />\n&nbsp\;</div>\n\n<div>This is event is supported by <a href="http://www.green-trails.com/">Green Trails</a> and <a href="http://www.facebook.com/OldChiangMaiCulturalCenter">Old Chiangmai Cultural Center.</a></div>\n
LOCATION:Hai Ya Art Venue\, Old Chiangmai Cultural Center View Map
UID:e.3314.1564
SEQUENCE:3
DTSTAMP:20260423T001416Z
URL:http://www.connect.amchamthailand.com/events/details/chiang-mai-connect-by-ntcc-heritage-sustainable-tourism-talk-networking-1564
END:VEVENT

END:VCALENDAR
