BEGIN:VCALENDAR
VERSION:2.0
PRODID:-//ChamberMaster//Event Calendar 2.0//EN
METHOD:PUBLISH
X-PUBLISHED-TTL:P3D
REFRESH-INTERVAL:P3D
CALSCALE:GREGORIAN
BEGIN:VEVENT
DTSTART:20211207T030000Z
DTEND:20211207T040000Z
X-MICROSOFT-CDO-ALLDAYEVENT:FALSE
SUMMARY:Committee & Council Leader Orientation
DESCRIPTION:AMCHAM is delighted to welcome a new cohort of Committee and Council leaders in 2022 for our orientation session. We'll start off with introductions\, followed by a quick presentation on leadership resources\, the different stakeholders and participants in AMCHAM activities\, and key AMCHAM processes.\n\n\n\nThis event is by invitation only\, for AMCHAM Committee and Council Leaders\, and Board Governors.
X-ALT-DESC;FMTTYPE=text/html:AMCHAM is delighted to welcome a new cohort of Committee and Council leaders in 2022 for our orientation session. We&#39\;ll start off with introductions\, followed by a quick presentation on leadership resources\, the different stakeholders and participants in AMCHAM activities\, and key AMCHAM processes.<br />\n<br />\nThis event is by invitation only\, for AMCHAM Committee and Council Leaders\, and Board Governors.<br />\n&nbsp\;
LOCATION:Video Conference
UID:e.3314.2015
SEQUENCE:3
DTSTAMP:20260421T122632Z
URL:http://www.connect.amchamthailand.com/events/details/committee-council-leader-orientation-2015
END:VEVENT

END:VCALENDAR
