BEGIN:VCALENDAR
VERSION:2.0
PRODID:-//ChamberMaster//Event Calendar 2.0//EN
METHOD:PUBLISH
X-PUBLISHED-TTL:P3D
REFRESH-INTERVAL:P3D
CALSCALE:GREGORIAN
BEGIN:VEVENT
DTSTART:20200923T023000Z
DTEND:20200923T050000Z
X-MICROSOFT-CDO-ALLDAYEVENT:FALSE
SUMMARY:Comms & Marketing: Boost your Business with Facebook - Workshop
DESCRIPTION:Are you wondering what Facebook insiders know about using Facebook that you don't? If you had 15 minutes with a Facebook team member who helped the world's biggest advertisers get the most out of the platform what would you want to know? Are you reaching the right audience with the right content at the right time? Are you measuring the right results for your business?\n\n \n\nIf you want to know the answers to these questions\, then the Boost your Business with Facebook Workshop is for you.\n\n \n\nPlease note that this is an intermediate level workshop being conducted by Facebook team members. In order to get the most out of this event\, it is HIGHLY recommended that you meet the three criteria below:\n\n	Have already set up a Facebook page and an Instagram page\n	Have previously used the Facebook advertising platform\n	Have a specific need for more sophisticated Facebook marketing   moving beyond just boosting a post  \n\nWorkshop Agenda: \n\n\n\nLarge Group Session (Main Room) (1 hour)\n\n	AMCHAM Opener  John Da Silva (AMCHAM)\n	Topic 1: Overview of Facebook - Methit Mukdasiri (Facebook)\n	Topic 2: Getting your account ready for Facebook Ads - Daniel Lasavanich (Facebook)\n	Topic 3: Choosing the right campaign objective - Arthit Naidu (Facebook)\n\nBreak (15 minutes)\n\n \n\nBreak Out Sessions (1 hour):\n\n	Group A (Main Room)\n	\n		Clinic Session (60 minutes   in parallel) - Arthit Naidu and Daniel Lasavanich\n	\n	\n\n\n\n	Group B (Breakout Room 2)\n	\n		Utilizing various creative formats (30 mins   in parallel) - Methit Mukdasiri\n		Measuring what matters (30 mins   in parallel) - Pratt Hetrakul\n	\n	\n\n\n\n	Group C (Breakout Room 3)\n	\n		Measuring what matters (30 mins   in parallel) - Pratt Hetrakul\n		Utilizing various creative formats (30 mins   in parallel) - Methit Mukdasiri\n	\n	\n\nPlease note that in order to comply with privacy requests\, no recording or sharing of slides will be permitted during or after the event.\n\n\n\nAll-star team of Facebook trainers: \n\n	Arthit Naidu - Client Solutions Manager. Arthit works extensively with advertisers in technology\, telecommunications\, and travel. He formerly led teams at Uber Eats and Grab Food.\n	Daniel Lasavanich - Client Solutions Manager. Daniel works extensively with advertisers in retail and e-commerce. He formerly worked at Lazada where he led the regional performance marketing team.\n	Pratt Hetrakul - Marketing Science Lead. Pratt is the country lead for marketing science\, where he helps advertisers conduct experiments and improve campaign measurements.\n	Methit Mukdasiri - Vertical Lead. Methit is the country lead for retail\, e-commerce\, telecommunications\, technology\, and travel.  He has extensive experience in driving business impact for startups and large listed companies.
X-ALT-DESC;FMTTYPE=text/html:<div>Are you wondering what Facebook insiders know about using Facebook that you don&rsquo\;t? If you had 15 minutes with a Facebook team member who helped the world&rsquo\;s biggest advertisers get the most out of the platform what would you want to know? Are you reaching the right audience with the right content at the right time? Are you measuring the right results for your business?<br />\n&nbsp\;<br />\nIf you want to know the answers to these questions\, then the Boost your Business with Facebook Workshop is for you.<br />\n&nbsp\;<br />\nPlease note that this is an intermediate level workshop being conducted by Facebook team members. In order to get the most out of this event\, it is HIGHLY recommended that you meet the three criteria below:\n<ol>\n	<li>Have already set up a Facebook page and an Instagram page</li>\n	<li>Have previously used the Facebook advertising platform</li>\n	<li>Have a specific need for more sophisticated Facebook marketing &ndash\; moving beyond just boosting a post &nbsp\;</li>\n</ol>\n<strong>Workshop Agenda:&nbsp\;</strong><br />\n<br />\nLarge Group Session (Main Room) (1 hour)\n<ul>\n	<li>AMCHAM Opener&ndash\; John Da Silva (AMCHAM)</li>\n	<li>Topic 1: Overview of Facebook - Methit Mukdasiri (Facebook)</li>\n	<li>Topic 2: Getting your account ready for Facebook Ads - Daniel Lasavanich (Facebook)</li>\n	<li>Topic 3: Choosing the right campaign objective - Arthit Naidu (Facebook)</li>\n</ul>\nBreak (15 minutes)<br />\n&nbsp\;<br />\nBreak Out Sessions (1 hour):\n<ul>\n	<li>Group A (Main Room)\n	<ul>\n		<li>Clinic Session (60 minutes &ndash\; in parallel) - Arthit Naidu and Daniel Lasavanich</li>\n	</ul>\n	</li>\n</ul>\n\n<ul>\n	<li>Group B (Breakout Room 2)\n	<ul>\n		<li>Utilizing various creative formats (30 mins &ndash\; in parallel) - Methit Mukdasiri</li>\n		<li>Measuring what matters (30 mins &ndash\; in parallel) - Pratt Hetrakul</li>\n	</ul>\n	</li>\n</ul>\n\n<ul>\n	<li>Group C (Breakout Room 3)\n	<ul>\n		<li>Measuring what matters (30 mins &ndash\; in parallel) - Pratt Hetrakul</li>\n		<li>Utilizing various creative formats (30 mins &ndash\; in parallel) - Methit Mukdasiri</li>\n	</ul>\n	</li>\n</ul>\n<span style="color:#FF0000\;"><strong>Please note that in order to comply with privacy requests\, no recording or sharing of slides will be permitted during or after the event.</strong></span><br />\n<br />\nAll-star team of Facebook trainers:&nbsp\;\n<ol>\n	<li><a href="https://sg.linkedin.com/in/arthit-naidu-5b501693">Arthit Naidu</a>&nbsp\;- Client Solutions Manager. Arthit works extensively with advertisers in technology\, telecommunications\, and travel. He formerly led&nbsp\;teams at Uber Eats and Grab Food.</li>\n	<li><a href="https://th.linkedin.com/in/daniellasavanich">Daniel Lasavanich</a>&nbsp\;- Client Solutions Manager. Daniel works extensively with advertisers in retail and e-commerce. He formerly worked at Lazada where he led&nbsp\;the regional performance marketing team.</li>\n	<li><a href="https://th.linkedin.com/in/hetrakul">Pratt Hetrakul</a>&nbsp\;- Marketing Science Lead. Pratt is the country lead for marketing science\, where he helps advertisers conduct experiments and improve campaign measurements.</li>\n	<li><a href="https://th.linkedin.com/in/methit-mukdasiri-3047a0">Methit Mukdasiri</a>&nbsp\;- Vertical Lead. Methit is the country lead for retail\, e-commerce\, telecommunications\, technology\, and travel.&nbsp\; He has extensive experience in driving business impact for startups and large listed companies.</li>\n</ol>\n</div>\n
LOCATION:
UID:e.3314.1681
SEQUENCE:3
DTSTAMP:20260422T144433Z
URL:http://www.connect.amchamthailand.com/events/details/comms-marketing-boost-your-business-with-facebook-workshop-1681
END:VEVENT

END:VCALENDAR
