BEGIN:VCALENDAR
VERSION:2.0
PRODID:-//ChamberMaster//Event Calendar 2.0//EN
METHOD:PUBLISH
X-PUBLISHED-TTL:P3D
REFRESH-INTERVAL:P3D
CALSCALE:GREGORIAN
BEGIN:VEVENT
DTSTART:20200326T063000Z
DTEND:20200326T100000Z
X-MICROSOFT-CDO-ALLDAYEVENT:FALSE
SUMMARY:Comms & Marketing (Postponed): Boost your Business with Facebook - Workshop
DESCRIPTION:This event has been postponed as a precautionary measure to support public health efforts to minimize the spread of COVID-19. When the rescheduled date is confirmed\, AMCHAM will update that information here.\n\n\n\nAre you wondering what Facebook insiders know about using Facebook that you don't? If you had 15 minutes with a Facebook team member who helped the world's biggest Facebook advertisers get the most out of Facebook\, what would you want to know? Is your business getting the most out the Facebook platform? Are you reaching the right audience with the right content at the right time? Are you measuring the right results for your business?\n\n \n\nIf you want to know the answers to these questions\, then the Boost your Business with Facebook Workshop is for you.\n\n \n\nPlease note that this is an intermediate level workshop being conducted by Facebook team members. In order to get the most out of this event\, it is HIGHLY recommended that you meet the three criteria below:\n\n	Have already set up a Facebook page and an Instagram page\n	Have previously used the Facebook advertising platform\n	Have a specific need for more sophisticated Facebook marketing   moving beyond just boosting a post  \n\nWorkshop Agenda: \n\n1:30 pm           Registration\n\n2:00 pm           Overview of Facebook\n\n2:30 pm           Getting your account ready for Facebook Ads\n\n3:00 pm           Choosing the right campaign objective\n\n3:30 pm           Break\n\n3:45 pm           Utilizing various creative formats\n\n4:15 pm           Measuring what matters\n\n4:45 pm           Wrap up - Putting all together\n\n5:00 pm           End\n\n\n\nAll-star team of Facebook trainers: \n\n\n	Arthit Naidu - Client Solutions Manager - Arthit works extensively with advertisers in technology\, telecommunications and travel. He formerly lead teams at Uber Eats and Grab Food.\n	Daniel Lasavanich - Client Solutions Manager - Daniel works extensively with advertisers in retail and e-commerce. He formerly worked at Lazada where he lead the regional performance marketing team.\n	Pratt Hetrakul - Marketing Science Lead - Pratt is the country lead for marketing science\, where he helps advertisers conduct experiments and improve campaign measurements.\n	Methit Mukdasiri - Vertical Lead - Methit is the country lead for retail\, e-commerce\, telecommunications\, technology and travel.  He has extensive experience in driving business impact for startups and large listed company.
X-ALT-DESC;FMTTYPE=text/html:<div><em style="box-sizing: border-box\; font-family: &quot\;open sans&quot\;\, sans-serif\; font-size: 14px\; color: rgb(0\, 0\, 128)\; font-weight: 700\;">This event has been postponed as a precautionary measure to support public health efforts to minimize the spread of COVID-19. When the rescheduled date is confirmed\, AMCHAM will update that information here.</em><br style="box-sizing: border-box\; font-family: &quot\;open sans&quot\;\, sans-serif\; color: rgb(68\, 68\, 68)\; font-size: 14px\;" />\n<br />\nAre you wondering what Facebook insiders know about using Facebook that you don&rsquo\;t? If you had 15 minutes with a Facebook team member who helped the world&rsquo\;s biggest Facebook advertisers get the most out of Facebook\, what would you want to know? Is your business getting the most out the Facebook platform? Are you reaching the right audience with the right content at the right time? Are you measuring the right results for your business?<br />\n&nbsp\;<br />\nIf you want to know the answers to these questions\, then the Boost your Business with Facebook Workshop is for you.<br />\n&nbsp\;<br />\nPlease note that this is an intermediate level workshop being conducted by Facebook team members. In order to get the most out of this event\, it is HIGHLY recommended that you meet the three criteria below:\n<ol>\n	<li>Have already set up a Facebook page and an Instagram page</li>\n	<li>Have previously used the Facebook advertising platform</li>\n	<li>Have a specific need for more sophisticated Facebook marketing &ndash\; moving beyond just boosting a post &nbsp\;</li>\n</ol>\n<strong>Workshop Agenda:&nbsp\;</strong><br />\n1:30 pm &nbsp\;&nbsp\;&nbsp\;&nbsp\;&nbsp\;&nbsp\;&nbsp\;&nbsp\;&nbsp\; Registration<br />\n2:00 pm&nbsp\;&nbsp\;&nbsp\;&nbsp\;&nbsp\;&nbsp\;&nbsp\;&nbsp\;&nbsp\;&nbsp\; Overview of Facebook<br />\n2:30 pm&nbsp\;&nbsp\;&nbsp\;&nbsp\;&nbsp\;&nbsp\;&nbsp\;&nbsp\;&nbsp\;&nbsp\; Getting your account ready for Facebook Ads<br />\n3:00 pm&nbsp\;&nbsp\;&nbsp\;&nbsp\;&nbsp\;&nbsp\;&nbsp\;&nbsp\;&nbsp\;&nbsp\; Choosing the right campaign objective<br />\n3:30 pm&nbsp\;&nbsp\;&nbsp\;&nbsp\;&nbsp\;&nbsp\;&nbsp\;&nbsp\;&nbsp\;&nbsp\; Break<br />\n3:45 pm&nbsp\;&nbsp\;&nbsp\;&nbsp\;&nbsp\;&nbsp\;&nbsp\;&nbsp\;&nbsp\;&nbsp\; Utilizing various creative formats<br />\n4:15 pm&nbsp\;&nbsp\;&nbsp\;&nbsp\;&nbsp\;&nbsp\;&nbsp\;&nbsp\;&nbsp\;&nbsp\; Measuring what matters<br />\n4:45 pm&nbsp\;&nbsp\;&nbsp\;&nbsp\;&nbsp\;&nbsp\;&nbsp\;&nbsp\;&nbsp\;&nbsp\; Wrap up - Putting all together<br />\n5:00 pm&nbsp\;&nbsp\;&nbsp\;&nbsp\;&nbsp\;&nbsp\;&nbsp\;&nbsp\;&nbsp\;&nbsp\; End<br />\n<br />\n<strong>All-star team of Facebook trainers:&nbsp\;</strong>\n\n<ol>\n	<li><strong>Arthit Naidu</strong> - Client Solutions Manager - Arthit works extensively with advertisers in technology\, telecommunications and travel. He formerly lead&nbsp\;teams at Uber Eats and Grab Food.</li>\n	<li><strong>Daniel Lasavanich</strong> - Client Solutions Manager - Daniel works extensively with advertisers in retail and e-commerce. He formerly worked at Lazada where he lead&nbsp\;the regional performance marketing team.</li>\n	<li><strong>Pratt Hetrakul</strong> - Marketing Science Lead - Pratt is the country lead for marketing science\, where he helps advertisers conduct experiments and improve campaign measurements.</li>\n	<li><strong>Methit Mukdasiri</strong> - Vertical Lead - Methit is the country lead for retail\, e-commerce\, telecommunications\, technology and travel.&nbsp\; He has extensive experience in driving business impact for startups and large listed company.</li>\n</ol>\n</div>\n
LOCATION:
UID:e.3314.1531
SEQUENCE:3
DTSTAMP:20260423T001204Z
URL:http://www.connect.amchamthailand.com/events/details/comms-marketing-postponed-boost-your-business-with-facebook-workshop-1531
END:VEVENT

END:VCALENDAR
