BEGIN:VCALENDAR
VERSION:2.0
PRODID:-//ChamberMaster//Event Calendar 2.0//EN
METHOD:PUBLISH
X-PUBLISHED-TTL:P3D
REFRESH-INTERVAL:P3D
CALSCALE:GREGORIAN
BEGIN:VEVENT
DTSTART:20200508T030000Z
DTEND:20200508T034500Z
X-MICROSOFT-CDO-ALLDAYEVENT:FALSE
SUMMARY:Communications & Marketing Committee: Business as Unusual
DESCRIPTION:AMCHAM's Communications and Marketing Committee invites Edelman\, the world's largest integrated communications firm\, to share "Business as Unusual" an analysis on the critical role brands are expected to play during the coronavirus pandemic. Analysis will include global takeaways as well Thailand-specific data rooted in the Edelman Trust Barometer\, an annual study on credibility and trust in as well as the firm's Trust Barometer Special Report on COVID-19 conducted in March and April. Please join us for an insightful presentation by Adrian Warr\, CEO\, Edelman Hong Kong\, Taiwan and Thailand to better equip us all in navigating this unchartered territory.
X-ALT-DESC;FMTTYPE=text/html:<p>AMCHAM&#39\;s Communications and Marketing Committee invites Edelman\, the world&#39\;s largest integrated communications&nbsp\;firm\, to share &quot\;Business as Unusual&quot\;&nbsp\;an analysis on the critical role brands are expected to play during the coronavirus pandemic. Analysis will include global takeaways as well Thailand-specific data rooted in the Edelman Trust Barometer\, an annual study on credibility and&nbsp\;trust in as well as the firm&#39\;s Trust Barometer Special Report on COVID-19 conducted in March and April. Please join us for an insightful presentation by <a href="https://www.amchamthailand.com/wp-content/uploads/2020/01/Adrian-Warr_NEW-Bio-2019-october.pdf" trebuchet="">Adrian Warr</a>\, CEO\, Edelman Hong Kong\, Taiwan and Thailand to better equip us all in navigating this unchartered territory.</p>\n
LOCATION:Video conference Meeting
UID:e.3314.1595
SEQUENCE:3
DTSTAMP:20260422T201459Z
URL:http://www.connect.amchamthailand.com/events/details/communications-marketing-committee-business-as-unusual-1595
END:VEVENT

END:VCALENDAR
