BEGIN:VCALENDAR
VERSION:2.0
PRODID:-//ChamberMaster//Event Calendar 2.0//EN
METHOD:PUBLISH
X-PUBLISHED-TTL:P3D
REFRESH-INTERVAL:P3D
CALSCALE:GREGORIAN
BEGIN:VEVENT
DTSTART:20210325T030000Z
DTEND:20210325T040000Z
X-MICROSOFT-CDO-ALLDAYEVENT:FALSE
SUMMARY:Communications & Marketing Committee: How to Make the Most of 2021’s Key Trends in Marketing
DESCRIPTION:The rise of e-commerce in products and services\, building brand loyalty by creating tribes\, consumer demands for brand authenticity\, these are just a few of the exciting key trends in marketing for 2021. Please join the AMCHAM Communications and Marketing Committee and our amazing panel of marketing insiders and business leaders as we discuss 2021's marketing trends\, learn best practices and examine business case studies to see how brands are adapting to these changing and emerging trends.\n\n \n\nAbout Speakers\n\n1. Grace Clapham\, Head APAC Community Partnerships\, Facebook. Grace is the Head of Community Partnership APAC for Facebook\, based in Singapore. In her role\, she supports community leaders using Facebook's Family of Apps to grow their communities whilst also providing funding\, networks and programs. Prior to joining Facebook\, she spent ten years building several businesses working within the creative\, startup\, and social innovation sectors. At the same time\, she started to create strong ecosystems and communities across the South East Asian region. She is a Global Inspirational Leaderships Awards and CMO Asia's 50 Women Leaders Award for Leadership Excellence recipient\, as well as being a judge for the NUS-DBS Social Innovation Challenge\, and being on the sub-committee for women entrepreneurs at ACE Singapore. Outside of work\, she loves reading\, traveling and yoga.\n\n\n\n2. Tom Yu is Vice President\, Head of LazMall Crossboarder\, at Lazada where he leads bringing global brands to Thai consumers. Prior to this role he was head of Business Development at Lazada leading LazMall brands onboarding through the incubation process covering from local Small Medium Enterprises (SMEs) to global brands across the platform.\n\n\n\n3. Anuchida Iacharoen is Senior Executive Manager for LEGO at DKSH Thailand. Previously she managed brands such as Philips Avent and Lock&Lock.
X-ALT-DESC;FMTTYPE=text/html:The rise of e-commerce in products and services\, building brand loyalty by creating tribes\, consumer demands for brand authenticity\, these are just a few of the exciting key trends in marketing for 2021. Please join the AMCHAM Communications and Marketing Committee and our amazing panel of marketing insiders and business leaders as we discuss 2021&#39\;s marketing trends\, learn best practices and examine business case studies to see how brands are adapting to these changing and emerging trends.<br />\n&nbsp\;<br />\n<u><strong>About Speakers</strong></u><br />\n1.&nbsp\;<a href="https://sg.linkedin.com/in/graceclapham">Grace Clapham</a>\, Head APAC Community Partnerships\, Facebook. Grace is the Head of Community Partnership APAC for Facebook\, based in Singapore. In her role\, she supports community leaders using Facebook&#39\;s Family of Apps to grow their communities whilst also providing funding\, networks and programs. Prior to joining Facebook\, she spent ten years building several businesses working within the creative\, startup\, and social innovation sectors. At the same time\, she started to create strong ecosystems and communities across the South East Asian region. She is a Global Inspirational Leaderships Awards and CMO Asia&#39\;s 50 Women Leaders Award for Leadership Excellence recipient\, as well as being a judge for the NUS-DBS Social Innovation Challenge\, and being on the sub-committee for women entrepreneurs at ACE Singapore. Outside of work\, she loves reading\, traveling and yoga.<br />\n<br />\n2.&nbsp\;<a href="https://th.linkedin.com/in/kittipongtomyu">Tom Yu</a> is Vice President\, Head of LazMall Crossboarder\, at Lazada where he leads bringing global brands to Thai consumers. Prior to this role he was head of Business Development at Lazada leading LazMall brands onboarding through the incubation process covering from local Small Medium Enterprises (SMEs) to global brands across the platform.<br />\n<br />\n3.&nbsp\;<a href="https://th.linkedin.com/in/anuchida-iacharoen-34585a122">Anuchida Iacharoen</a> is Senior Executive Manager for LEGO at DKSH Thailand. Previously she managed brands such as Philips Avent and Lock&amp\;Lock.
LOCATION:Webinar
UID:e.3314.1859
SEQUENCE:3
DTSTAMP:20260422T030841Z
URL:http://www.connect.amchamthailand.com/events/details/communications-marketing-committee-how-to-make-the-most-of-2021-s-key-trends-in-marketing-1859
END:VEVENT

END:VCALENDAR
