BEGIN:VCALENDAR
VERSION:2.0
PRODID:-//ChamberMaster//Event Calendar 2.0//EN
METHOD:PUBLISH
X-PUBLISHED-TTL:P3D
REFRESH-INTERVAL:P3D
CALSCALE:GREGORIAN
BEGIN:VEVENT
DTSTART:20200605T030000Z
DTEND:20200605T040000Z
X-MICROSOFT-CDO-ALLDAYEVENT:FALSE
SUMMARY:Communications & Marketing Committee: Market Pulse Amid Covid-19
DESCRIPTION:How will consumer behavior and marketing evolve in our new world of working\, shopping and socializing post Covid-19? The AMCHAM Communications and Marketing Committee is pleased to present the latest market research by members of the Thailand Market Research Society. \n\n\n\nJoin us for an invigorating panel discussion where our speakers will look at what the post Covid-19 world will look like. What behavior changes do we anticipate\, and which categories will change the most drastically? What familiar habits will re-emerge?\n\n\n\nOur speakers include:\n\n- Mr. Grant Bertoli\, President of TMRS & CEO of Marketbuzzz Co.\, Ltd\n\n- Mr. Kla Tangsuwan\, CEO Wisesight \n\n- Dr. Dangjaithawin Anantachai\, Managing Director of Intage (Thailand) Co. Ltd.   \n\n- Mr. Dave McCaughan\, Storyteller of Bibliosexual\n\n- Ms. Nicha Tanskul\, Managing Director Custom Asia
X-ALT-DESC;FMTTYPE=text/html:<p>How will consumer behavior and marketing evolve in our new world of working\, shopping and socializing post Covid-19? The AMCHAM Communications and Marketing Committee is pleased to present the latest market research by members of the Thailand Market Research Society.&nbsp\;<br />\n<br />\nJoin us for an invigorating panel discussion where our speakers will look at what the post Covid-19 world will look like. What behavior changes do we anticipate\, and which categories will change the most drastically? What familiar habits will re-emerge?<br />\n<br />\nOur speakers include:<br />\n-&nbsp\;<a href="https://th.linkedin.com/in/grant-bertoli-b68a153">Mr. Grant Bertoli\,</a>&nbsp\;President of TMRS &amp\; CEO of Marketbuzzz Co.\, Ltd<br />\n-&nbsp\;<a href="https://th.linkedin.com/in/nytonkla/th-th">Mr. Kla Tangsuwan</a>\, CEO Wisesight&nbsp\;<br />\n-&nbsp\;<a href="https://th.linkedin.com/in/dangjaithawin-anantachai-0a218a28">Dr. Dangjaithawin Anantachai</a>\, Managing Director of Intage (Thailand) Co. Ltd.&nbsp\;&nbsp\;&nbsp\;<br />\n-&nbsp\;<a href="https://th.linkedin.com/in/davidmccaughan">Mr. Dave McCaughan</a>\, Storyteller of Bibliosexual<br />\n-&nbsp\;<a href="https://th.linkedin.com/in/nicha-tanskul-phd-7097374">Ms. Nicha Tanskul</a>\, Managing Director Custom Asia</p>\n
LOCATION:Video conference Meeting
UID:e.3314.1618
SEQUENCE:3
DTSTAMP:20260422T201646Z
URL:http://www.connect.amchamthailand.com/events/details/communications-marketing-committee-market-pulse-amid-covid-19-1618
END:VEVENT

END:VCALENDAR
