BEGIN:VCALENDAR
VERSION:2.0
PRODID:-//ChamberMaster//Event Calendar 2.0//EN
METHOD:PUBLISH
X-PUBLISHED-TTL:P3D
REFRESH-INTERVAL:P3D
CALSCALE:GREGORIAN
BEGIN:VEVENT
DTSTART:20181113T003000Z
DTEND:20181113T013000Z
X-MICROSOFT-CDO-ALLDAYEVENT:FALSE
SUMMARY:Community Engagement: Program Update
DESCRIPTION:Join us for the Community Engagement Committee meeting. We will look at the result of the recent Orientation & Career Camps and discuss how\, going forward\, the programs can be improved.\n\nWith the Thanksgiving Golf Tournament coming up this month\, as well as the 2019 Silent Auction\, we'll talk strategy for the upcoming major fund-raising activities for our scholarship program.\n\n\n\nWe are seeking new people with new ideas to help us design and implement effective projects\, so everyone is welcome to attend.
X-ALT-DESC;FMTTYPE=text/html:<p style="font-family: verdana\, arial\, sans-serif\; font-size: 12px\; background-color: rgb(255\, 255\, 255)\;">Join us for the Community Engagement Committee meeting. We will look at the result of the recent Orientation &amp\; Career Camps and discuss how\, going forward\, the programs can be improved.</p>\n\n<p style="font-family: verdana\, arial\, sans-serif\; font-size: 12px\; background-color: rgb(255\, 255\, 255)\;">With the Thanksgiving Golf Tournament coming up this&nbsp\;month\, as well as the 2019 Silent Auction\, we&#39\;ll talk strategy for the upcoming major fund-raising activities&nbsp\;for our scholarship program.<br />\n<br />\nWe&nbsp\;are seeking&nbsp\;new people with new ideas to help us design and implement effective projects\, so everyone is welcome to attend.</p>\n
LOCATION:AMCHAM Office\, Citi Boardroom BTS Ploenchit
UID:e.3314.70
SEQUENCE:3
DTSTAMP:20260424T030200Z
URL:http://www.connect.amchamthailand.com/events/details/community-engagement-program-update-70
END:VEVENT

END:VCALENDAR
