BEGIN:VCALENDAR
VERSION:2.0
PRODID:-//ChamberMaster//Event Calendar 2.0//EN
METHOD:PUBLISH
X-PUBLISHED-TTL:P3D
REFRESH-INTERVAL:P3D
CALSCALE:GREGORIAN
BEGIN:VEVENT
DTSTART:20200429T013000Z
DTEND:20200429T023000Z
X-MICROSOFT-CDO-ALLDAYEVENT:FALSE
SUMMARY:Community Projects Committee
DESCRIPTION:Join us for the Community Projects Council meeting. \n\nOur main topic for discussion will be the 2020 Career Camp for our scholarship students which is planned for October.  We will also have some discussion on fundraising budget/plans for Q3/Q4.\n\n\n\nThis is a working meeting and we are always seeking new people with new ideas to help us design and implement effective projects.  Please contact Sheree@amchamthailand.com if you are interested in joining this group.
X-ALT-DESC;FMTTYPE=text/html:<p style="box-sizing: border-box\; font-family: verdana\, arial\, sans-serif\; line-height: 1.8em\; margin-bottom: 1rem\; margin-top: 0px\; color: rgb(68\, 68\, 68)\; font-size: 12px\;">Join us for the Community Projects Council meeting.&nbsp\;</p>\n\n<p style="box-sizing: border-box\; font-family: verdana\, arial\, sans-serif\; line-height: 1.8em\; margin-bottom: 1rem\; margin-top: 0px\; outline: 0px\; color: rgb(68\, 68\, 68)\; font-size: 12px\;">Our main topic for discussion will be the 2020 Career Camp for our scholarship students which is planned for October.&nbsp\; We will also have some discussion on fundraising budget/plans for Q3/Q4.<br style="box-sizing: border-box\; font-family: &quot\;open sans&quot\;\, sans-serif\;" />\n<br style="box-sizing: border-box\; font-family: &quot\;open sans&quot\;\, sans-serif\;" />\nThis is a working meeting and we&nbsp\;are always seeking&nbsp\;new people with new ideas to help us design and implement effective projects.&nbsp\; Please contact Sheree@amchamthailand.com if you are interested in joining this group.</p>\n
LOCATION:Video Conference
UID:e.3314.1600
SEQUENCE:3
DTSTAMP:20260422T215734Z
URL:http://www.connect.amchamthailand.com/events/details/community-projects-committee-1600
END:VEVENT

END:VCALENDAR
