BEGIN:VCALENDAR
VERSION:2.0
PRODID:-//ChamberMaster//Event Calendar 2.0//EN
METHOD:PUBLISH
X-PUBLISHED-TTL:P3D
REFRESH-INTERVAL:P3D
CALSCALE:GREGORIAN
BEGIN:VEVENT
DTSTART:20210917T010000Z
DTEND:20210917T020000Z
X-MICROSOFT-CDO-ALLDAYEVENT:FALSE
SUMMARY:Community Projects Council
DESCRIPTION:Join us for the Community Projects Council meeting.  There will be discussion on the Student Engagement video conference series as well as an update on the application process for the 2021 Scholarship program.  \n\n\n\nThis is a working meeting and we are always seeking new people with new ideas to help us design and implement effective projects.  Please contact Sheree@amchamthailand.com if you are interested in joining this group.
X-ALT-DESC;FMTTYPE=text/html:<p style="box-sizing: border-box\; font-family: verdana\, arial\, sans-serif\; line-height: 1.8em\; margin-bottom: 1rem\; margin-top: 0px\; color: rgb(68\, 68\, 68)\; font-size: 12px\;">Join us for the Community Projects Council meeting.&nbsp\;&nbsp\;There will be discussion on the Student Engagement video conference series as well as an update on the application process for the&nbsp\;2021 Scholarship program.&nbsp\;&nbsp\;<br style="box-sizing: border-box\; font-family: &quot\;open sans&quot\;\, sans-serif\;" />\n<br style="box-sizing: border-box\; font-family: &quot\;open sans&quot\;\, sans-serif\;" />\nThis is a working meeting and we&nbsp\;are always seeking&nbsp\;new people with new ideas to help us design and implement effective projects.&nbsp\; Please contact Sheree@amchamthailand.com if you are interested in joining this group.</p>\n
LOCATION:Video Conference
UID:e.3314.1989
SEQUENCE:3
DTSTAMP:20260421T155254Z
URL:http://www.connect.amchamthailand.com/events/details/community-projects-council-1989
END:VEVENT

END:VCALENDAR
