BEGIN:VCALENDAR
VERSION:2.0
PRODID:-//ChamberMaster//Event Calendar 2.0//EN
METHOD:PUBLISH
X-PUBLISHED-TTL:P3D
REFRESH-INTERVAL:P3D
CALSCALE:GREGORIAN
BEGIN:VEVENT
DTSTART:20230519T010000Z
DTEND:20230519T020000Z
X-MICROSOFT-CDO-ALLDAYEVENT:FALSE
SUMMARY:Community Projects Council
DESCRIPTION:Join us for the Community Projects Council meeting.  \n\n\n\nThis is a working meeting and we are always seeking new people with new ideas to help us design and implement effective projects. \n\n\n\nKindly see below for the agenda to be discussed during the meeting.\n\n	Update on career camp planning\n	Silent Auction Update\n	Vocational school scholarship updates\n	Other Business\n\nPlease contact Sheree@amchamthailand.com if you are interested in joining this group.
X-ALT-DESC;FMTTYPE=text/html:Join us for the Community Projects Council meeting.&nbsp\;&nbsp\;<br open="" />\n<br open="" />\nThis is a working meeting and we&nbsp\;are always seeking&nbsp\;new people with new ideas to help us design and implement effective projects.&nbsp\;<br />\n<br />\nKindly see below for the&nbsp\;agenda to be discussed during the meeting.\n<ul>\n	<li>Update on career camp planning</li>\n	<li>Silent Auction Update</li>\n	<li>Vocational school scholarship updates</li>\n	<li>Other Business</li>\n</ul>\nPlease contact Sheree@amchamthailand.com if you are interested in joining this group.
LOCATION:Online videoconference
UID:e.3314.2541
SEQUENCE:3
DTSTAMP:20260420T014431Z
URL:http://www.connect.amchamthailand.com/events/details/community-projects-council-2541
END:VEVENT

END:VCALENDAR
