BEGIN:VCALENDAR
VERSION:2.0
PRODID:-//ChamberMaster//Event Calendar 2.0//EN
METHOD:PUBLISH
X-PUBLISHED-TTL:P3D
REFRESH-INTERVAL:P3D
CALSCALE:GREGORIAN
BEGIN:VEVENT
DTSTART:20230818T010000Z
DTEND:20230818T020000Z
X-MICROSOFT-CDO-ALLDAYEVENT:FALSE
SUMMARY:Community Projects Council
DESCRIPTION:Join us for the Community Projects Council meeting.  This is a working meeting and we are always seeking new people with new ideas to help us design and implement effective projects.\n\n\n\nPlease contact Sheree@amchamthailand.com if you are interested in joining this group.
X-ALT-DESC;FMTTYPE=text/html:Join us for the Community Projects Council meeting.&nbsp\;&nbsp\;This is a working meeting and we&nbsp\;are always seeking&nbsp\;new people with new ideas to help us design and implement effective projects.<br />\n<br />\nPlease contact Sheree@amchamthailand.com if you are interested in joining this group.
LOCATION:Online video conference
UID:e.3314.2603
SEQUENCE:3
DTSTAMP:20260419T220112Z
URL:http://www.connect.amchamthailand.com/events/details/community-projects-council-2603
END:VEVENT

END:VCALENDAR
