BEGIN:VCALENDAR
VERSION:2.0
PRODID:-//ChamberMaster//Event Calendar 2.0//EN
METHOD:PUBLISH
X-PUBLISHED-TTL:P3D
REFRESH-INTERVAL:P3D
CALSCALE:GREGORIAN
BEGIN:VEVENT
DTSTART:20231110T010000Z
DTEND:20231110T020000Z
X-MICROSOFT-CDO-ALLDAYEVENT:FALSE
SUMMARY:Community Projects Council: November Meeting
DESCRIPTION:Join us for the Community Projects Council meeting. This is a working meeting and we are always seeking new people with new ideas to help us design and implement effective projects. Please find below the agenda for the meeting.\n\n	Introduction of new joiners\n	Update: AMCHAM Scholarship University Selection\n	Discussion on application process/ changes\n	Orientation Camp Planning\n	Fundraising update\n	Other Business\n\nPlease contact Sheree@amchamthailand.com if you are interested in joining this group.
X-ALT-DESC;FMTTYPE=text/html:Join us for the Community Projects Council meeting. This is a working meeting and we are always seeking new people with new ideas to help us design and implement effective projects. Please find below the agenda for the meeting.\n<ul>\n	<li>Introduction of new joiners</li>\n	<li>Update: AMCHAM Scholarship University Selection</li>\n	<li>Discussion on application process/ changes</li>\n	<li>Orientation Camp Planning</li>\n	<li>Fundraising update</li>\n	<li>Other Business</li>\n</ul>\nPlease contact Sheree@amchamthailand.com if you are interested in joining this group.
LOCATION:Online video conference
UID:e.3314.2673
SEQUENCE:3
DTSTAMP:20260419T151455Z
URL:http://www.connect.amchamthailand.com/events/details/community-projects-council-november-meeting-2673
END:VEVENT

END:VCALENDAR
