BEGIN:VCALENDAR
VERSION:2.0
PRODID:-//ChamberMaster//Event Calendar 2.0//EN
METHOD:PUBLISH
X-PUBLISHED-TTL:P3D
REFRESH-INTERVAL:P3D
CALSCALE:GREGORIAN
BEGIN:VEVENT
DTSTART:20231006T010000Z
DTEND:20231006T040000Z
X-MICROSOFT-CDO-ALLDAYEVENT:FALSE
SUMMARY:Community Projects Council: Scholarship Selection
DESCRIPTION:
X-ALT-DESC;FMTTYPE=text/html:
LOCATION:AMCHAM Office\, True Digital Park\, 12A.1
UID:e.3314.2616
SEQUENCE:3
DTSTAMP:20260419T164345Z
URL:http://www.connect.amchamthailand.com/events/details/community-projects-council-scholarship-selection-2616
END:VEVENT

END:VCALENDAR
