BEGIN:VCALENDAR
VERSION:2.0
PRODID:-//ChamberMaster//Event Calendar 2.0//EN
METHOD:PUBLISH
X-PUBLISHED-TTL:P3D
REFRESH-INTERVAL:P3D
CALSCALE:GREGORIAN
BEGIN:VEVENT
DTSTART:20200317T003000Z
DTEND:20200317T013000Z
X-MICROSOFT-CDO-ALLDAYEVENT:FALSE
SUMMARY:Community Projects Council (Video Conference)
DESCRIPTION:Join us for the Community Projects Council meeting. \n\nWe will discuss plans for the silent auction at the upcoming Governors Ball as well as other items.\n\n\n\nThis is a working meeting and we are always seeking new people with new ideas to help us design and implement effective projects.  Please contact Sheree@amchamthailand.com if you are interested in joining this group.
X-ALT-DESC;FMTTYPE=text/html:<p style="font-family: verdana\, arial\, sans-serif\; font-size: 12px\; background-color: rgb(255\, 255\, 255)\;">Join us for the Community Projects Council meeting.&nbsp\;</p>\n\n<p style="font-family: verdana\, arial\, sans-serif\; font-size: 12px\; background-color: rgb(255\, 255\, 255)\;">We will discuss&nbsp\;plans for the silent auction at the upcoming Governors Ball as well as other items.<br />\n<br />\nThis is a working meeting and we&nbsp\;are always seeking&nbsp\;new people with new ideas to help us design and implement effective projects.&nbsp\; Please contact Sheree@amchamthailand.com if you are interested in joining this group.</p>\n
LOCATION:We are offering this event as a video conference - to join\, please request an invitation from Sheree.
UID:e.3314.1568
SEQUENCE:3
DTSTAMP:20260423T015038Z
URL:http://www.connect.amchamthailand.com/events/details/community-projects-council-video-conference-1568
END:VEVENT

END:VCALENDAR
