BEGIN:VCALENDAR
VERSION:2.0
PRODID:-//ChamberMaster//Event Calendar 2.0//EN
METHOD:PUBLISH
X-PUBLISHED-TTL:P3D
REFRESH-INTERVAL:P3D
CALSCALE:GREGORIAN
BEGIN:VEVENT
DTSTART:20230324T030000Z
DTEND:20230324T050000Z
X-MICROSOFT-CDO-ALLDAYEVENT:FALSE
SUMMARY:Consultative Meeting with the Department of Intellectual Property
DESCRIPTION:AMCHAM is pleased to invite you to the Department of Intellectual Property (DIP) online consultation meeting to solicit views from stakeholders on the protection and enforcement of intellectual property rights (IPRs) in Thailand.\n\n\n\nAMCHAM will be submitting member questions to the DIP in advance. If you would like your question to be raised at the meeting\, please enter it in the registration form or email them to tong@amchamthailand.com before March 13. \n\n\n\nAdditionally\, AMCHAM arranges a pre-meeting session on March 15\, at 1.30 - 2.30 PM\, please also join the pre-meeting to prepare and align the talking points with concerned parties.
X-ALT-DESC;FMTTYPE=text/html:AMCHAM is pleased to invite you to the Department of Intellectual Property (DIP) online consultation meeting to solicit views from stakeholders on the protection and enforcement of intellectual property rights (IPRs) in Thailand.<br />\n<br />\nAMCHAM will be submitting member questions to the DIP in advance. If you would like your question to be raised at the meeting\, please enter it in the registration form or email them to tong@amchamthailand.com before March 13.&nbsp\;<br />\n<br />\nAdditionally\, AMCHAM arranges a pre-meeting session on March 15\, at 1.30 - 2.30 PM\, please also join the pre-meeting to prepare and align the talking points with concerned parties.&nbsp\;
LOCATION:Video conference
UID:e.3314.2521
SEQUENCE:3
DTSTAMP:20260420T071802Z
URL:http://www.connect.amchamthailand.com/events/details/consultative-meeting-with-the-department-of-intellectual-property-2521
END:VEVENT

END:VCALENDAR
