BEGIN:VCALENDAR
VERSION:2.0
PRODID:-//ChamberMaster//Event Calendar 2.0//EN
METHOD:PUBLISH
X-PUBLISHED-TTL:P3D
REFRESH-INTERVAL:P3D
CALSCALE:GREGORIAN
BEGIN:VEVENT
DTSTART:20231027T030000Z
DTEND:20231027T050000Z
X-MICROSOFT-CDO-ALLDAYEVENT:FALSE
SUMMARY:Consultative Meeting with the Department of Intellectual Property
DESCRIPTION:AMCHAM is pleased to invite you to the Department of Intellectual Property (DIP) online consultation meeting to solicit views from stakeholders on the protection and enforcement of intellectual property rights (IPRs) in Thailand.\n\n\n\nAMCHAM will be submitting member questions to the DIP in advance. If you would like your question to be raised at the meeting\, please enter it in the registration form or email them to tong@amchamthailand.com before Oct 20.\n\n\n\nAdditionally\, AMCHAM arranges a pre-meeting session on Oct 20\, at 11AM - 12PM\, please also join the pre-meeting to prepare and align the talking points with concerned parties.
X-ALT-DESC;FMTTYPE=text/html:AMCHAM is pleased to invite you to the Department of Intellectual Property (DIP) online consultation meeting to solicit views from stakeholders on the protection and enforcement of intellectual property rights (IPRs) in Thailand.<br />\n<br />\nAMCHAM will be submitting member questions to the DIP in advance. If you would like your question to be raised at the meeting\, please enter it in the registration form or email them to tong@amchamthailand.com <u>before Oct 20.</u><br />\n<br />\nAdditionally\, AMCHAM arranges a pre-meeting session on Oct 20\, at 11AM - 12PM<span style="color:#FFFF00\;">\,</span> please also join the pre-meeting to prepare and align the talking points with concerned parties.&nbsp\;
LOCATION:Video conference
UID:e.3314.2639
SEQUENCE:3
DTSTAMP:20260419T170351Z
URL:http://www.connect.amchamthailand.com/events/details/consultative-meeting-with-the-department-of-intellectual-property-2639
END:VEVENT

END:VCALENDAR
