BEGIN:VCALENDAR
VERSION:2.0
PRODID:-//ChamberMaster//Event Calendar 2.0//EN
METHOD:PUBLISH
X-PUBLISHED-TTL:P3D
REFRESH-INTERVAL:P3D
CALSCALE:GREGORIAN
BEGIN:VEVENT
DTSTART:20230802T070000Z
DTEND:20230802T090000Z
X-MICROSOFT-CDO-ALLDAYEVENT:FALSE
SUMMARY:Creative Economy Council: From Script to Screen: How a Movie is Made
DESCRIPTION:AMCHAM's Creative Economy Council is pleased to invite members for a look behind the scenes at the Thai film industry\, one of the pillars of the creative economy. Join us to welcome prominent film producer and director Aditya Assarat\, who will lead us through the intricate process of how the film is produced from script to screen.\n\n\n\nAditya has been instrumental in promoting the Thai film industry and its role in the broader creative economy. His efforts have helped position Thailand as a vibrant hub for filmmakers and a destination for international film productions. His talk will cover the stages of production and distribution as well as the potential of the Thai film industry in the age of streaming platforms and global-soft power.  After the main presentation\, participants are invited to engage in an informal question-and-answer session.\n\n \n\nAbout the Speaker \n\nAditya Assarat is a highly respected filmaker in the Thai film industry. His breakthrough came with his feature film\, "Wonderful Town" which premiered at the Cannes Film Festival in 2007 and received widespread acclaim for its poignant portrayal of love and loss against the backdrop of post-tsunami Thailand. His notable works include "Hi-So" a drama that explores the class divide in modern Thai society\, and "The White Buffalo" a blend of myth and reality set in the Thai countryside.
X-ALT-DESC;FMTTYPE=text/html:AMCHAM&#39\;s Creative Economy Council is pleased to invite members for a look behind the scenes at the Thai film industry\, one of the pillars of the creative economy. Join us to welcome prominent film producer and director Aditya Assarat\, who will lead us through the intricate process of how the film is produced from script to screen.<br />\n<br />\nAditya has been instrumental in promoting the Thai film industry and its role in the broader creative economy. His efforts have helped position Thailand as a vibrant hub for filmmakers and a destination for international film productions. His talk will cover the stages of production and distribution as well as the potential of the Thai film industry in the age of streaming platforms and global-soft power.&nbsp\;&nbsp\;After the main presentation\, participants are invited to engage in an informal question-and-answer&nbsp\;session.<br />\n&nbsp\;<br />\n<strong>About the Speaker&nbsp\;</strong><br />\n<a href="https://www.imdb.com/name/nm0039775/">Aditya Assarat</a> is a highly respected filmaker in the Thai film industry. His breakthrough came with his feature film\, &quot\;Wonderful Town&quot\; which premiered at the Cannes Film Festival in 2007 and received widespread acclaim for its poignant portrayal of love and loss against the backdrop of post-tsunami Thailand. His notable works include &quot\;Hi-So&quot\; a drama that explores the class divide in modern Thai society\, and &quot\;The White Buffalo&quot\; a blend of myth and reality set in the Thai countryside.
LOCATION:True Digital Park West\, 2nd Floor\, Classroom 7 BTS: Punnawithi (direct exit to True Digital Park)
UID:e.3314.2589
SEQUENCE:3
DTSTAMP:20260419T201741Z
URL:http://www.connect.amchamthailand.com/events/details/creative-economy-council-from-script-to-screen-how-a-movie-is-made-2589
END:VEVENT

END:VCALENDAR
